Workbook

Sheet Sheet1
A1: 설 계 내 역 서
A2: =[1]원가계산서!A2 -> 공사명 : 노후시설물 도장공사
A3: 품 명 | B3: 규 격 | C3: 단위 | D3: 수 량 | E3: 재 료 비 | G3: 노 무 비 | I3: 경 비 | K3: 합 계 | M3: 비고
E4: 단 가 | F4: 금 액 | G4: 단 가 | H4: 금 액 | I4: 단 가 | J4: 금 액 | K4: 단 가 | L4: 금 액
A5: ■ 가설공사
A6: =[1]일위대가목록!B5 -> 조립식비계 | B6: =[1]일위대가목록!C5 -> 10m이하 | C6: =[1]일위대가목록!D5 -> ㎡
A7: =[1]일위대가목록!B12 -> 건축물 현장정리 | B7: =[1]일위대가목록!C12 -> 개보수 | C7: =[1]일위대가목록!D12 -> ㎡ | D7: =[1]수량산출집계!D6 -> 773.92
A8: =[1]일위대가목록!B13 -> 건축물 보양 | B8: =[1]일위대가목록!C13 -> 바닥보양 | C8: =[1]일위대가목록!D13 -> ㎡ | D8: =[1]수량산출집계!D7 -> 297.61
A9: 소 계
A11: ■ 균열보수공사
A12: =[1]일위대가목록!B11 -> 콘크리트 균열보수(충전공법) | B12: =[1]일위대가목록!C11 -> V-컷팅충전보수 | C12: =[1]일위대가목록!D11 -> m | D12: =[1]수량산출집계!D10 -> 100
A13: 소 계
A15: ■ 도장공사
A16: =[1]일위대가목록!B6 -> 바탕만들기 | B16: =[1]일위대가목록!C6 -> 바닥, 벽, 콘크리트, 내부 | C16: =[1]일위대가목록!D6 -> ㎡ | D16: =[1]수량산출서!D5 -> 390
A17: =[1]일위대가목록!B7 -> 재도장 시 바탕처리 | B17: =[1]일위대가목록!C7 -> 바닥, 벽, 콘크리트, 내부 | C17: =[1]일위대가목록!D7 -> ㎡ | D17: =[1]수량산출서!G5 -> 308.68
A18: =[1]일위대가목록!B8 -> 수성페인트칠 | B18: =[1]일위대가목록!C8 -> 벽, 롤러칠, 2회, 내부 | C18: =[1]일위대가목록!D8 -> ㎡ | D18: =[1]수량산출서!E5 -> 390
A19: =[1]일위대가목록!B9 -> 에폭시페인트칠 | B19: =[1]일위대가목록!C9 -> 바닥, 롤러칠, 2회, 내부, 친환경 | C19: =[1]일위대가목록!D9 -> ㎡ | D19: =[1]수량산출서!F5 -> 222.37
A20: =[1]일위대가목록!B10 -> 조합페인트칠 | B20: =[1]일위대가목록!C10 -> 벽, 롤러칠, 2회, 내부 | C20: =[1]일위대가목록!D10 -> ㎡ | D20: =[1]수량산출서!H5 -> 86.31
A21: 소 계
