Workbook
Name _11G_0Extr: #REF!
Name _12G_0Extr: #REF!
Name _15G_0Extract: #REF!
Name _16G_0Extract: #REF!
Name _3_3_0Crite: #REF!
Name _4_3_0Crite: #REF!
Name _7_3_0Criteria: #REF!
Name _8_3_0Criteria: #REF!
Name CODE: #REF!
Name DANGA: #REF!,#REF!
Name ID: #REF!,#REF!
Name KA: [2]MOTOR!$B$61:$E$68
Name Macro10: [3]!Macro10
Name Macro12: [3]!Macro12
Name Macro13: [3]!Macro13
Name Macro14: [3]!Macro14
Name Macro2: [3]!Macro2
Name Macro5: [3]!Macro5
Name Macro6: [3]!Macro6
Name Macro7: [3]!Macro7
Name Macro8: [3]!Macro8
Name Macro9: [3]!Macro9
Name MONEY: #REF!,#REF!
Name 공사명: #REF!
Name 공통복사: [3]!Macro13
Name 관급: #REF!,#REF!,#REF!
Name 내역서: #REF!
Name 니여: #REF!,#REF!
Name 단가비교표: #REF!,#REF!
Name 비목1: #REF!
Name 비목2: #REF!
Name 비목3: #REF!
Name 비목4: #REF!
Name 샘플: [4]내역서!$A$1:$IV$4
Name 위치도: #REF!
Name 일위: #REF!,#REF!
Name ㅈㅈㅈ: [3]!Macro12
Name 장성: #REF!,#REF!

Sheet 갑지.표지
C3: =C32 -> 2022년도
C7: 2022년 버스정류소 정차면 도색공사
A26: 팀 장 | O26: 심 사 자 | AC26: 설 계 자 | AQ26: 2022년 8월 설계
C32: 2022년도
C35: 2022년 버스정류소 정차면 도색공사
D38: ○ 공사개요 : | L38: =설계설명서!D14 -> 융착성 도료 백색 (P3-R5) 신설 : 문자기호 L=929m
L39: =설계설명서!D15 -> 융착성 도료 백색 (P3-R5) 재도색 : 문자기호 L=1,416m
L40: =설계설명서!D16 -> 융착성 도료 청색 신설 : 실선 L=1,515m, 파선 L=462m
L41: =설계설명서!D17 -> 융착성 도료 청색 재도색 : 실선 L=2,310m, 파선 L=648m
L42: =설계설명서!D18 -> 차선도색 제거 : L=58m
C45: ="총공사비 : 금"&TEXT((원가계산서!G34),"#,##0원")&"(금"&NUMBERSTRING(원가계산서!G34,1)&"원)" -> 총공사비 : 금0원(금영원)

Sheet 위치도
A1: 위치도
A2: 달서대로(신당네거리~신당한화꿈에그린아파트)
A26: 대명로(성당네거리~대명역교차로)

Sheet 설계설명서
A1: 설계설명서
B4: 1. | C4: 공사명 | G4: : | H4: =갑지.표지!C35 -> 2022년 버스정류소 정차면 도색공사
B6: 2. | C6: 위치 | G6: : | H6: 대구시 전역 | L6: (중구 16개소, 동구 4개소, 서구 9개소, 남구 2개소
L7: 북구 42개소, 수성구 53개소, 달서구 72개소, 달성군 6개소)
B9: 3. | C9: 목적
C10: ○ | D10: 2022년 버스정류소 정차면 도색공사를 시행하여 시내버스 정차 및 통행불편 해소와 승ㆍ하차 승객의
D11: 교통사고를 예방하고자 합니다.
B13: 4. | C13: 공사개요
C14: ○ | D14: 융착성 도료 백색 (P3-R5) 신설 : 문자기호 L=929m
C15: ○ | D15: 융착성 도료 백색 (P3-R5) 재도색 : 문자기호 L=1,416m
C16: ○ | D16: 융착성 도료 청색 신설 : 실선 L=1,515m, 파선 L=462m
C17: ○ | D17: 융착성 도료 청색 재도색 : 실선 L=2,310m, 파선 L=648m
C18: ○ | D18: 차선도색 제거 : L=58m
B20: 5. | C20: 공사기간
C21: ○ | D21: 착공일로부터 25일간으로 한다.
D22: - | E22: 준비기간(공사신고) : 3일
D23: - | E23: 비작업일수 : 16일
D24: - | E24: 작업일수 : 6일
B26: 6. | C26: 예정공정표
B27: 공종 | G27: 착 공 일 로 부 터 | AA27: 비고
G28: 3일 | K28: 8일 | O28: 14일 | S28: 20일 | W28: 25일
B29: 작업준비
B31: 도색공
B33: 부대공
B35: 준공

Sheet 원가계산서
A1: 원가계산서
A3: 비목 | F3: 구분 | G3: 금액 | H3: 요율 | I3: 산출근거
A4: 순 공 사 원 가 | B4: 재 료 비 | D4: 직접재료비 | F4: 1 | G4: =내역서총괄표!H4 -> 0
D5: 간접재료비 | F5: 2
D6: 작업설.부산물등(△) | F6: 3
D7: 소계 | F7: A | G7: =TRUNC((G4+G5+G6),0) -> 0 | I7: ( 1 + 2 + 3 )
B8: 노 무 비 | D8: 직접노무비 | F8: 4 | G8: =내역서총괄표!G4 -> 0
D9: 간접노무비 | F9: 5 | G9: =TRUNC((G8*H9),0) -> 0 | H9: 0.138 | I9: ( 4 ) × 0.138
D10: 소계 | F10: B | G10: =TRUNC((G8+G9),0) -> 0 | I10: ( 4 + 5 )
B11: 경 비 | D11: 산출경비 | F11: 6 | G11: =내역서총괄표!I4 -> 0
D12: 산재보험료 | F12: 7 | G12: =TRUNC((G10*H12),0) -> 0 | H12: 0.037 | I12: ( B ) × 0.0370
D13: 고용보험료 | F13: 8 | G13: =TRUNC((G10*H13),0) -> 0 | H13: 0.0101 | I13: ( B ) × 0.0101
D14: 건강보험료 | F14: 9 | G14: =TRUNC((G8*H14),0) -> 0 | H14: 0 | I14: ( 4 ) × 0.03495
D15: 연금보험료 | F15: 10 | G15: =TRUNC((G8*H15),0) -> 0 | H15: 0 | I15: ( 4 ) × 0.045
D16: 노인장기요양보험료 | F16: 11 | G16: =TRUNC((G14*H16),0) -> 0 | H16: 0 | I16: ( 9 ) × 0.1227
D17: 퇴직공제부금비 | F17: 12 | G17: =TRUNC((G8*H17),0) -> 0 | I17: ( 4 ) × 0.023
D19: 산업안전보건관리비 | F19: 9 | G19: 943174 | H19: 0.0293 | I19: ( A + 4 ) × 0.0293
D20: 환경보전비 | F20: 10 | G20: =TRUNC(((G7+G8+G11)*H20),0) -> 0 | H20: 0.008 | I20: ( A + 4 + 6) × 0.008
D21: 공사이행보증수수료 | F21: 16
D22: 하도급대금지급보증수수료 | F22: 17
D23: 기타경비 | F23: 11 | G23: =TRUNC(((G7+G10)*H23),0) -> 0 | H23: 0.083 | I23: ( A + B ) × 0.083
D24: 소계 | F24: C | I24: ( 6:11 )
D25: 순공사원가 | F25: D | I25: ( A + B + C )
D26: 일반관리비 | F26: E | H26: 0.06 | I26: ( D ) × 0.06
D27: 이윤 | F27: F | H27: 0.15 | I27: ( B + C + E ) × 0.15
D28: 총원가 | F28: G | I28: ( D + E + F )
D29: 부가가치세 | F29: H | H29: 0.1 | I29: ( G ) × 0.1
D30: 품질시험비 | F30: I
D31: 도급액 | F31: J | I31: ( G + H + I )
D32: 관급자재대 | F32: K
D33: 폐기물처리비 | F33: L
D34: 총공사비 | F34: M | I34: ( J + K + L ) (천단위 미만 절사)

Sheet 내역서총괄표
A1: 내역서총괄표
A3: 공종 | B3: 품명 | C3: 규격 | D3: 수량 | E3: 단위 | F3: 합계 | G3: 노무비 | H3: 재료비 | I3: 경비 | J3: 비고
A4: 1 | B4: 순공사비 | F4: =G4+H4+I4 -> 0 | G4: =G5+G6 -> 0 | H4: =H5+H6 -> 0 | I4: =I5+I6 -> 0
A5: 2 | B5: 노면표시 도색 및 제거 | F5: =G5+H5+I5 -> 0 | G5: =내역서!L5 -> 0 | H5: =내역서!N5 -> 0 | I5: =내역서!P5 -> 0
A6: 3 | B6: 부대공 | F6: =G6+H6+I6 -> 0 | G6: =내역서!L17 -> 0 | H6: =내역서!N17 -> 0 | I6: =내역서!P17 -> 0
B8: 간접노무비 | D8: 13.8 | E8: % | F8: =TRUNC((G4*D8/100),0) -> 0
B9: 산재보험료 | D9: 3.7 | E9: % | F9: =TRUNC(((G4+F8)*D9/100),0) -> 0
B10: 고용보험료 | D10: 1.01 | E10: % | F10: =TRUNC(((G4+F8)*D10/100),0) -> 0
B11: 국민건강보험료 | D11: 0 | E11: % | F11: =TRUNC(((G4)*D11/100),0) -> 0
B12: 국민연금보험료 | D12: 0 | E12: % | F12: =TRUNC(((G4)*D12/100),0) -> 0
B13: 노인장기요양보험료 | D13: 0 | E13: % | F13: =TRUNC(((F11)*D13/100),0) -> 0
B14: 퇴직공제부금비 | D14: 0 | E14: % | F14: =TRUNC(((G4)*D14/100),0) -> 0
B16: 산업안전보건관리비 | D16: 2.93 | E16: % | F16: 943174
B17: 환경보전비 | D17: 0.8 | E17: % | F17: =TRUNC(((F4)*D17/100),0) -> 0
B18: 기타경비 | D18: 8.3 | E18: % | F18: =TRUNC(((H4+G4+F8)*D18/100),0) -> 0
B19: 순공사원가
B20: 일반관리비 | D20: 6 | E20: %
B21: 이윤 | D21: 15 | E21: %
B22: 총원가
B23: 부가가치세 | D23: 10 | E23: %
B24: 품질시험비
B25: 도급액
B26: 총공사비 | J26: 천단위 미만 절사
G29: 실선 | H29: 2769 | I29: 3333 | J29: =H29/I29 -> 0.83078308
G30: 파선 | H30: 6572 | I30: 1666 | J30: =H30/I30 -> 3.9447779
G31: 횡단보도 | H31: 13830 | I31: 1266 | J31: =H31/I31 -> 10.924171
G32: 문자기호 | H32: 6032 | I32: 600 | J32: =H32/I32 -> 10.053333
G33: 실선 | H33: 8865 | I33: 3333 | J33: =H33/I33 -> 2.659766
G34: 파선 | H34: 3691 | I34: 1666 | J34: =H34/I34 -> 2.2154862
G35: 파선 | H35: 820 | I35: 2000 | J35: =H35/I35 -> 0.41
G36: 문자기호 | H36: 77 | I36: 720 | J36: =H36/I36 -> 0.10694444
G37: 실선 | H37: 1296 | I37: 4000 | J37: =H37/I37 -> 0.324
G38: 파선 | H38: 660 | I38: 2000 | J38: =H38/I38 -> 0.33
J39: =SUM(J29:J38) -> 31.799262

Sheet 내역서
B1: 설계내역서
B2: 공종 | C2: 규격 | G2: 수량 | H2: 단위 | I2: 합계 | K2: 노무비 | M2: 재료비 | O2: 경비 | Q2: 비고
C3: 품명 | D3: 등급 | E3: 구분 | F3: 색상 | I3: 단 가 | J3: 금액 | K3: 단가 | L3: 금액 | M3: 단가 | N3: 금액 | O3: 단가 | P3: 금액
B4: ▣ | C4: =설계설명서!H4 -> 2022년 버스정류소 정차면 도색공사
B5: 1 | C5: 노면표시 도색 및 제거
C6: 융착성도료(문자, 기호) | D6: P3-R5 | E6: 신설 | F6: 백색 | G6: 929 | H6: m
C7: 융착성도료(실선) | E7: 신설 | F7: 청색 | G7: 1515 | H7: m
C8: 융착성도료(파선) | E8: 신설 | F8: 청색 | G8: 462 | H8: m
C9: 융착성도료(문자, 기호) | D9: P3-R5 | E9: 재도색 | F9: 백색 | G9: 1416 | H9: m
C10: 융착성도료(실선) | E10: 재도색 | F10: 청색 | G10: 2310 | H10: m
C11: 융착성도료(파선) | E11: 재도색 | F11: 청색 | G11: 648 | H11: m
C12: 차선도색 제거 | E12: 제거 | F12: 청색 | G12: 58 | H12: m

Sheet 내역서2
A1: 1 | B1: 자재 | C1: 규격 | D1: 색상 | E1: 종류 | F1: 원 수 | G1: 단 위 | H1: 총 액 | J1: 노 무 비 | L1: 재 료 비 | N1: 산 출 경 비 | P1: 비 고
A2: 1 | H2: 단 가 | I2: 금 액 | J2: 단 가 | K2: 금 액 | L2: 단 가 | M2: 금 액 | N2: 단 가 | O2: 금 액
A3: 1 | B3: =갑지.표지!C35 -> 2022년 버스정류소 정차면 도색공사
A4: 1 | B4: 가. 노면표시 도색 및 제거
A5: 2 | B5: 융착성 도료 신설 | C5: P3-R5 | D5: 백색 | E5: 실 선 | F5: =#REF! -> #REF! | G5: m | H5: =SUM(J5,L5,N5) -> 0 | I5: =K5+M5+O5 -> #REF! | K5: =F5*J5 -> #REF! | M5: =L5*F5 -> #REF! | O5: =N5*F5 -> #REF! | P5: 제1호표
A6: 2 | E6: 파 선 | F6: =#REF! -> #REF! | G6: m | H6: =SUM(J6,L6,N6) -> 0 | I6: =K6+M6+O6 -> #REF! | K6: =F6*J6 -> #REF! | M6: =L6*F6 -> #REF! | O6: =N6*F6 -> #REF! | P6: 제2호표
A7: 2 | E7: 횡단보도 | F7: =#REF! -> #REF! | G7: m | H7: =SUM(J7,L7,N7) -> 0 | I7: =K7+M7+O7 -> #REF! | K7: =F7*J7 -> #REF! | M7: =L7*F7 -> #REF! | O7: =N7*F7 -> #REF! | P7: 제3호표
A8: 2 | E8: 문자,기호 | F8: =#REF! -> #REF! | G8: m | H8: =SUM(J8,L8,N8) -> 0 | I8: =K8+M8+O8 -> #REF! | K8: =F8*J8 -> #REF! | M8: =L8*F8 -> #REF! | O8: =N8*F8 -> #REF! | P8: 제4호표
A9: 2 | C9: P3-R4 | D9: 황색 | E9: 실 선 | F9: =#REF! -> #REF! | G9: m | H9: =SUM(J9,L9,N9) -> 0 | I9: =K9+M9+O9 -> #REF! | K9: =F9*J9 -> #REF! | M9: =L9*F9 -> #REF! | O9: =N9*F9 -> #REF! | P9: 제5호표
A10: 2 | E10: 파 선 | F10: =#REF! -> #REF! | G10: m | H10: =SUM(J10,L10,N10) -> 0 | I10: =K10+M10+O10 -> #REF! | K10: =F10*J10 -> #REF! | M10: =L10*F10 -> #REF! | O10: =N10*F10 -> #REF! | P10: 제6호표
A11: 2 | D11: 청색 | E11: 실 선 | F11: 0 | G11: m | H11: =SUM(J11,L11,N11) -> 0 | I11: =K11+M11+O11 -> 0 | K11: =F11*J11 -> 0 | M11: =L11*F11 -> 0 | O11: =N11*F11 -> 0 | P11: 제7호표
A12: 2 | E12: 파 선 | F12: 0 | G12: m | H12: =SUM(J12,L12,N12) -> 0 | I12: =K12+M12+O12 -> 0 | K12: =F12*J12 -> 0 | M12: =L12*F12 -> 0 | O12: =N12*F12 -> 0 | P12: 제8호표
A13: 2 | D13: 분홍색 | E13: 실 선 | G13: m | H13: =SUM(J13,L13,N13) -> 0 | I13: =K13+M13+O13 -> 0 | K13: =F13*J13 -> 0 | M13: =L13*F13 -> 0 | O13: =N13*F13 -> 0 | P13: 121
A14: 2 | E14: 파 선 | G14: m | H14: =SUM(J14,L14,N14) -> 0 | I14: =K14+M14+O14 -> 0 | K14: =F14*J14 -> 0 | M14: =L14*F14 -> 0 | O14: =N14*F14 -> 0 | P14: 122
A15: 1 | B15: 융착성 도료 재도색 | C15: P3-R5 | D15: 백색 | E15: 실 선 | F15: =#REF! -> #REF! | G15: m | H15: =SUM(J15,L15,N15) -> #REF! | I15: =K15+M15+O15 -> #REF! | J15: =#REF! -> #REF! | K15: =F15*J15 -> #REF! | L15: =#REF! -> #REF! | M15: =L15*F15 -> #REF! | N15: =#REF! -> #REF! | O15: =N15*F15 -> #REF! | P15: 9
A16: 1 | E16: 파 선 | F16: =#REF! -> #REF! | G16: m | H16: =SUM(J16,L16,N16) -> #REF! | I16: =K16+M16+O16 -> #REF! | J16: =#REF! -> #REF! | K16: =F16*J16 -> #REF! | L16: =#REF! -> #REF! | M16: =L16*F16 -> #REF! | N16: =#REF! -> #REF! | O16: =N16*F16 -> #REF! | P16: 10
A17: 1 | E17: 횡단보도 | F17: =#REF! -> #REF! | G17: m | H17: =SUM(J17,L17,N17) -> #REF! | I17: =K17+M17+O17 -> #REF! | J17: =#REF! -> #REF! | K17: =F17*J17 -> #REF! | L17: =#REF! -> #REF! | M17: =L17*F17 -> #REF! | N17: =#REF! -> #REF! | O17: =N17*F17 -> #REF! | P17: 11
A18: 1 | E18: 문자,기호 | F18: =#REF! -> #REF! | G18: m | H18: =SUM(J18,L18,N18) -> #REF! | I18: =K18+M18+O18 -> #REF! | J18: =#REF! -> #REF! | K18: =F18*J18 -> #REF! | L18: =#REF! -> #REF! | M18: =L18*F18 -> #REF! | N18: =#REF! -> #REF! | O18: =N18*F18 -> #REF! | P18: 12
A19: 1 | C19: P3-R4 | D19: 황색 | E19: 실 선 | F19: =#REF! -> #REF! | G19: m | H19: =SUM(J19,L19,N19) -> #REF! | I19: =K19+M19+O19 -> #REF! | J19: =#REF! -> #REF! | K19: =F19*J19 -> #REF! | L19: =#REF! -> #REF! | M19: =L19*F19 -> #REF! | N19: =#REF! -> #REF! | O19: =N19*F19 -> #REF! | P19: 13
A20: 1 | E20: 파 선 | F20: =#REF! -> #REF! | G20: m | H20: =SUM(J20,L20,N20) -> #REF! | I20: =K20+M20+O20 -> #REF! | J20: =#REF! -> #REF! | K20: =F20*J20 -> #REF! | L20: =#REF! -> #REF! | M20: =L20*F20 -> #REF! | N20: =#REF! -> #REF! | O20: =N20*F20 -> #REF! | P20: 14
A21: 2 | D21: 청색 | E21: 실 선 | G21: m | H21: =SUM(J21,L21,N21) -> 0 | I21: =K21+M21+O21 -> 0 | K21: =F21*J21 -> 0 | M21: =L21*F21 -> 0 | O21: =N21*F21 -> 0 | P21: 제15호표
A22: 2 | E22: 파 선 | G22: m | H22: =SUM(J22,L22,N22) -> 0 | I22: =K22+M22+O22 -> 0 | K22: =F22*J22 -> 0 | M22: =L22*F22 -> 0 | O22: =N22*F22 -> 0 | P22: 제16호표
A23: 2 | B23: 상온 경화형 신설 | C23: P7-R5 | D23: 백색 | E23: 실 선 | F23: =#REF! -> #REF! | G23: m | H23: =SUM(J23,L23,N23) -> 0 | I23: =K23+M23+O23 -> #REF! | K23: =F23*J23 -> #REF! | M23: =L23*F23 -> #REF! | O23: =N23*F23 -> #REF!
A24: 2 | E24: 파 선 | F24: =#REF! -> #REF! | G24: m | H24: =SUM(J24,L24,N24) -> 0 | I24: =K24+M24+O24 -> #REF! | K24: =F24*J24 -> #REF! | M24: =L24*F24 -> #REF! | O24: =N24*F24 -> #REF!
A25: 2 | E25: 횡단보도 | F25: =#REF! -> #REF! | G25: m | H25: =SUM(J25,L25,N25) -> 0 | I25: =K25+M25+O25 -> #REF! | K25: =F25*J25 -> #REF! | M25: =L25*F25 -> #REF! | O25: =N25*F25 -> #REF!
A26: 2 | E26: 문자,기호 | F26: =#REF! -> #REF! | G26: m | H26: =SUM(J26,L26,N26) -> 0 | I26: =K26+M26+O26 -> #REF! | K26: =F26*J26 -> #REF! | M26: =L26*F26 -> #REF! | O26: =N26*F26 -> #REF!
A27: 2 | C27: P7-R4 | D27: 황색 | E27: 실 선 | F27: =#REF! -> #REF! | G27: m | H27: =SUM(J27,L27,N27) -> 0 | I27: =K27+M27+O27 -> #REF! | K27: =F27*J27 -> #REF! | M27: =L27*F27 -> #REF! | O27: =N27*F27 -> #REF!
A28: 2 | E28: 파 선 | F28: =#REF! -> #REF! | G28: m | H28: =SUM(J28,L28,N28) -> 0 | I28: =K28+M28+O28 -> #REF! | K28: =F28*J28 -> #REF! | M28: =L28*F28 -> #REF! | O28: =N28*F28 -> #REF!
A29: 2 | D29: 청색 | E29: 실 선 | F29: =#REF! -> #REF! | G29: m | H29: =SUM(J29,L29,N29) -> 0
A30: 2 | E30: 파 선 | F30: =#REF! -> #REF! | G30: m | H30: =SUM(J30,L30,N30) -> 0
A31: 2 | B31: 상온 경화형 재도색 | C31: P7-R5 | D31: 백색 | E31: 실 선 | F31: =#REF! -> #REF! | G31: m | H31: =SUM(J31,L31,N31) -> 0 | I31: =K31+M31+O31 -> #REF! | K31: =F31*J31 -> #REF! | M31: =L31*F31 -> #REF! | O31: =N31*F31 -> #REF!
A32: 2 | E32: 파 선 | F32: =#REF! -> #REF! | G32: m | H32: =SUM(J32,L32,N32) -> 0 | I32: =K32+M32+O32 -> #REF! | K32: =F32*J32 -> #REF! | M32: =L32*F32 -> #REF! | O32: =N32*F32 -> #REF!
A33: 2 | E33: 횡단보도 | F33: =#REF! -> #REF! | G33: m | H33: =SUM(J33,L33,N33) -> 0
A34: 2 | E34: 문자,기호 | F34: =#REF! -> #REF! | G34: m | H34: =SUM(J34,L34,N34) -> 0
A35: 2 | C35: P7-R4 | D35: 황색 | E35: 실 선 | F35: =#REF! -> #REF! | G35: m | H35: =SUM(J35,L35,N35) -> 0 | I35: =K35+M35+O35 -> #REF! | K35: =F35*J35 -> #REF! | M35: =L35*F35 -> #REF! | O35: =N35*F35 -> #REF!
A36: 2 | E36: 파 선 | F36: =#REF! -> #REF! | G36: m | H36: =SUM(J36,L36,N36) -> 0 | I36: =K36+M36+O36 -> #REF! | K36: =F36*J36 -> #REF! | M36: =L36*F36 -> #REF! | O36: =N36*F36 -> #REF!
A37: 2 | D37: 청색 | E37: 실 선 | F37: =#REF! -> #REF! | G37: m | H37: =SUM(J37,L37,N37) -> 0 | I37: =K37+M37+O37 -> #REF! | K37: =F37*J37 -> #REF! | M37: =L37*F37 -> #REF! | O37: =N37*F37 -> #REF!
A38: 2 | E38: 파 선 | F38: =#REF! -> #REF! | G38: m | H38: =SUM(J38,L38,N38) -> 0 | I38: =K38+M38+O38 -> #REF! | K38: =F38*J38 -> #REF! | M38: =L38*F38 -> #REF! | O38: =N38*F38 -> #REF!
A39: 2 | B39: 수용성 페인트 재도색 | C39: P4-R5 | D39: 백색 | E39: 실 선 | F39: =#REF! -> #REF! | G39: m | H39: =SUM(J39,L39,N39) -> 0 | I39: =K39+M39+O39 -> #REF! | K39: =F39*J39 -> #REF! | M39: =L39*F39 -> #REF! | O39: =N39*F39 -> #REF!
A40: 2 | E40: 파 선 | F40: =#REF! -> #REF! | G40: m | H40: =SUM(J40,L40,N40) -> 0 | I40: =K40+M40+O40 -> #REF! | K40: =F40*J40 -> #REF! | M40: =L40*F40 -> #REF! | O40: =N40*F40 -> #REF!
A41: 2 | E41: 횡단보도 | F41: =#REF! -> #REF! | G41: m
A42: 2 | E42: 문자,기호 | F42: =#REF! -> #REF! | G42: m
A43: 2 | C43: P4-R4 | D43: 황색 | E43: 실 선 | F43: =#REF! -> #REF! | G43: m | H43: =SUM(J43,L43,N43) -> 0 | I43: =K43+M43+O43 -> #REF! | K43: =F43*J43 -> #REF! | M43: =L43*F43 -> #REF! | O43: =N43*F43 -> #REF!
A44: 2 | E44: 파 선 | F44: =#REF! -> #REF! | G44: m | H44: =SUM(J44,L44,N44) -> 0 | I44: =K44+M44+O44 -> #REF! | K44: =F44*J44 -> #REF! | M44: =L44*F44 -> #REF! | O44: =N44*F44 -> #REF!
A45: 2 | D45: 청색 | E45: 실 선 | F45: =#REF! -> #REF! | G45: m | H45: =SUM(J45,L45,N45) -> 0 | I45: =K45+M45+O45 -> #REF! | K45: =F45*J45 -> #REF! | M45: =L45*F45 -> #REF! | O45: =N45*F45 -> #REF!
A46: 2 | E46: 파 선 | F46: =#REF! -> #REF! | G46: m | H46: =SUM(J46,L46,N46) -> 0 | I46: =K46+M46+O46 -> #REF! | K46: =F46*J46 -> #REF! | M46: =L46*F46 -> #REF! | O46: =N46*F46 -> #REF!
A47: 2 | B47: 차선제거 | F47: =#REF! -> #REF! | G47: m | H47: =SUM(J47,L47,N47) -> 0 | I47: =K47+M47+O47 -> #REF! | K47: =F47*J47 -> #REF! | M47: =L47*F47 -> #REF! | O47: =N47*F47 -> #REF! | P47: 59
A48: 1 | B48: 공종계 | I48: =K48+M48+O48 -> #REF! | K48: =SUM(K5:K47) -> #REF! | M48: =SUM(M5:M47) -> #REF! | O48: =SUM(O5:O47) -> #REF!
A49: 1 | B49: 나. 부대공
A50: 1 | B50: 현수막(0.9*6) | F50: 2 | G50: EA | I50: =K50+M50+O50 -> 60000 | K50: =F50*J50 -> 0 | M50: =F50*L50 -> 0 | N50: 30000 | O50: =F50*N50 -> 60000
A51: 2 | B51: 공종계 | I51: =K51+M51+O51 -> 60000 | K51: =SUM(K50:K50) -> 0 | M51: =SUM(M50:M50) -> 0 | O51: =SUM(O50:O50) -> 60000
A52: 1 | B52: 소계 | I52: =K52+M52+O52 -> #REF! | K52: =K48+K51 -> #REF! | M52: =M48+M51 -> #REF! | O52: =O48+O51 -> #REF!
A53: 1 | B53: 나. 간접노무비 | F53: 1 | G53: 식 | J53: =" ☞간접노무비 : 직접노무비의 "&(M54*100)&"%" -> ☞간접노무비 : 직접노무비의 12.7%
A54: 1 | I54: =O54 -> #REF! | K54: =K52 -> #REF! | L54: X | M54: 0.127 | N54: = | O54: =INT(K54*M54) -> #REF! | P54: =I54/K54 -> #REF!
A55: 1 | B55: 다. 경비 | F55: 1 | G55: 식 | I55: =SUM(I56:I69) -> #REF!
A56: 1 | B56: 산재보험료 | J56: =" ☞산재보험료 : (직접노무비+간접노무비)의 "&(M57*100)&"%" -> ☞산재보험료 : (직접노무비+간접노무비)의 3.73%
A57: 1 | I57: =O57 -> #REF! | K57: =K52+I54 -> #REF! | L57: X | M57: 0.0373 | N57: = | O57: =INT(K57*M57) -> #REF! | P57: =I57/K57 -> #REF!
A58: 1 | B58: 고용보험료 | J58: =" ☞고용보험료 : (직접노무비+간접노무비)의 "&(M59*100)&"%" -> ☞고용보험료 : (직접노무비+간접노무비)의 0.87%
A59: 1 | I59: =O59 -> #REF! | K59: =K52+I54 -> #REF! | L59: X | M59: 0.0087 | N59: = | O59: =INT(K59*M59) -> #REF! | P59: =I59/K59 -> #REF!
A60: 1 | B60: 국민건강보험료 | J60: =" ☞국민건강보험료 : (직접노무비)의 "&(M61*100)&"%" -> ☞국민건강보험료 : (직접노무비)의 3.335%
A61: 1 | K61: =K52 -> #REF! | L61: X | M61: 0.03335 | N61: = | O61: =INT(K61*M61) -> #REF! | P61: 0.03335
A62: 1 | B62: 국민연금보험료 | J62: =" ☞국민연금보험료 : (직접노무비)의 "&(M63*100)&"%" -> ☞국민연금보험료 : (직접노무비)의 4.5%
A63: 1 | K63: =K52 -> #REF! | L63: X | M63: 0.045 | N63: = | O63: =INT(K63*M63) -> #REF! | P63: 0.045
A64: 1 | B64: 노인장기요양보험료 | J64: =" ☞노인장기요양보험료 : (국민건강보험료)의 "&(M65*100)&"%" -> ☞노인장기요양보험료 : (국민건강보험료)의 10.25%
A65: 1 | K65: =I61 -> 0 | L65: X | M65: 0.1025 | N65: = | O65: =INT(K65*M65) -> 0 | P65: 0.1025
A66: 1 | B66: 산업안전보건관리비 | J66: =" ☞산업안전보건관리비 : (직접노무비+재료비)의 "&(M67*100)&"%" -> ☞산업안전보건관리비 : (직접노무비+재료비)의 2.93%
A67: 1 | I67: =O67 -> #REF! | K67: =K52+M52 -> #REF! | L67: X | M67: 0.0293 | N67: = | O67: =INT(K67*M67) -> #REF! | P67: 0.0293
A68: 1 | B68: 기타경비 | J68: =" ☞기타경비 : (직접노무비+간접노무비+재료비)의 "&(M69*100)&"%" -> ☞기타경비 : (직접노무비+간접노무비+재료비)의 8.8%
A69: 1 | I69: =O69 -> #REF! | K69: =K52+I54+M52 -> #REF! | L69: X | M69: 0.088 | N69: = | O69: =INT(K69*M69) -> #REF! | P69: =I69/K69 -> #REF!
A70: 1 | B70: 라. 일반관리비 | F70: 1 | G70: 식 | J70: =" ☞일반관리비 : (순공사비)의 "&(M71*100)&"%" -> ☞일반관리비 : (순공사비)의 6%
A71: 1 | I71: =O71 -> #REF! | K71: =I52+I54+I55 -> #REF! | L71: X | M71: 0.06 | N71: = | O71: =INT(K71*M71) -> #REF! | P71: =I71/K71 -> #REF!
A72: 1 | B72: 마. 이윤 | F72: 1 | G72: 식 | J72: =" ☞이윤 : (공사원가-재료비)의 "&(M73*100)&"%" -> ☞이윤 : (공사원가-재료비)의 15%
A73: 1 | I73: =O73 -> #REF! | K73: =I52+I54+I55+I71-M52 -> #REF! | L73: X | M73: 0.15 | N73: = | O73: =ROUNDUP((K73*M73),0) -> #REF! | P73: =I73/K73 -> #REF!
A74: 1 | B74: 공급가액 | I74: =I52+I54+I55+I71+I73 -> #REF!
A75: 1 | B75: 부가가치세 | F75: 1 | G75: 식 | J75: =" ☞부가가치세 : (공급가액)의 "&(M76*100)&"%" -> ☞부가가치세 : (공급가액)의 10%
A76: 1 | I76: =O76 -> #REF! | K76: =I74 -> #REF! | L76: X | M76: 0.1 | N76: = | O76: =INT(K76*M76) -> #REF! | P76: =I76/K76 -> #REF!
A77: 1 | B77: 도 급 액 | I77: =I74+I76 -> #REF!
A78: 1 | B78: 총공사비 | I78: =ROUNDDOWN(I77,-3) -> #REF! | J78: (1,000원이하 절사)

Sheet 수량산출(횡단보도)
A1: 1. 수량산출(횡단보도, 주차선, 정차금지대)
A2: 위치 | B2: 시공 | C2: 자재 | D2: 등급 | E2: 색상 | F2: 종류 | G2: 횡단보도선 | J2: 정지선 | M2: 화살표 | O2: 테두리선 | R2: 이륜횡단보도 | U2: 계 | V2: 융착식 | X2: 상온경화형 | Z2: 수용성페인트 | AA2: 제거
G3: 길이*개수*3선=소계 | J3: 길이*개수*3선=소계 | M3: 1.25m*개수=소계 | O3: 길이*선수=소계 | R3: 길이*선수=소계 | V3: 신설 | W3: 재도색 | X3: 신설 | Y3: 재도색 | Z3: 재도색
G4: 길이 | H4: 개수 | I4: 소 계 | J4: 길이 | K4: 개수 | L4: 소 계 | M4: 개수 | N4: 소계 | O4: 길이 | P4: 선수 | Q4: 소계 | R4: 길이 | S4: 선수 | T4: 소계 | V4: P3-R5 | W4: P3-R5 | X4: P7-R5 | Y4: P7-R5 | Z4: P4-R5
A5: 합계 | V5: =INT(SUM(V8:V477)) -> 0 | W5: =INT(SUM(W7:W510)) -> 0 | X5: =INT(SUM(X8:AA510)) -> 0 | Y5: =INT(SUM(Y8:AB510)) -> 0 | Z5: =INT(SUM(Z8:AC510)) -> 0 | AA5: =INT(SUM(AA8:AA510)) -> 0
A6: 1. 달서대로(신당네거리~계명대학교 동문 앞 교차로)
X7: =IF(AND($B7=X$3,$D7=X$4,$C7=X$2),$U7,"") | Y7: =IF(AND($B7=Y$3,$D7=Y$4,$C7=X$2),$U7,"") | Z7: =IF(AND($B7=Z$3,$D7=Z$4,$C7=Z$2),$U7,"") | AA7: =IF($B7=$AA$2,$U7,"")
X8: =IF(AND($B8=X$3,$D8=X$4,$C8=X$2),$U8,"") | Y8: =IF(AND($B8=Y$3,$D8=Y$4,$C8=X$2),$U8,"") | Z8: =IF(AND($B8=Z$3,$D8=Z$4,$C8=Z$2),$U8,"") | AA8: =IF($B8=$AA$2,$U8,"")
A9: 3. 달서대로(문화대삼거리~신당한화꿈에그린아파트)
X10: =IF(AND($B10=X$3,$D10=X$4,$C10=X$2),$U10,"") | Y10: =IF(AND($B10=Y$3,$D10=Y$4,$C10=X$2),$U10,"") | Z10: =IF(AND($B10=Z$3,$D10=Z$4,$C10=Z$2),$U10,"") | AA10: =IF($B10=$AA$2,$U10,"")
A11: 4. 대명로(성당네거리~대명역교차로)
X12: =IF(AND($B12=X$3,$D12=X$4,$C12=X$2),$U12,"") | Y12: =IF(AND($B12=Y$3,$D12=Y$4,$C12=X$2),$U12,"") | Z12: =IF(AND($B12=Z$3,$D12=Z$4,$C12=Z$2),$U12,"") | AA12: =IF($B12=$AA$2,$U12,"")
