Workbook

Sheet 원가계산서
A1: 공 사 원 가 계 산 서
A2: 공사명 : 대구국제사격장 시설물 보수공사
A3: 구 분 비 목 | D3: 구 성 비 | E3: 금 액 | F3: 비 고
A5: 순 공 사 원 가 | B5: 재료비 | C5: 직 접 재 료 비 | E5: =집계표!F28 -> 0
C6: 간 접 재 료 비 | E6: =ROUNDDOWN(E5*H6, 0) -> 0
C7: 작업설.부산물 등(△)
C8: 소 계 | E8: =SUM(E5:E6)-ABS(E7) -> 0
B9: 노무비 | C9: 직 접 노 무 비 | E9: =집계표!H28 -> 0
C10: 간 접 노 무 비 | D10: 직.노*12.5% | E10: =INT(E9*12.5%) -> 0
C11: 소 계 | E11: =SUM(E9:E10) -> 0
B12: 경 비 | C12: 산 출 경 비 | E12: =집계표!J28 -> 0
C13: 산 재 보 험 료 | D13: (노)*3.7% | E13: =INT(E11*3.7%) -> 0
C14: 고 용 보 험 료 | D14: (노)*1.01% | E14: =INT(E11*1.01%) -> 0
C15: 건 강 보 험 료 | D15: (직.노)*3.495% | E15: =INT(E9*3.495%) -> 0
C16: 연 금 보 험 료 | D16: (직.노)*4.5% | E16: =INT(E9*4.5%) -> 0
C17: 노인 장기 요양보험료 | D17: (건강보험료)*12.27% | E17: =INT(E15*12.27%) -> 0
C18: 퇴 직 공 제 부 금 비 | D18: (직.노)*2.3% | E18: =INT(E9*2.3%) -> 0
C19: 산업 안전 보건관리비 | D19: (재+직.노)*2.93% | E19: =INT((E8+E9)*2.93%) -> 0
C20: 기 타 경 비 | D20: (재+노)*7.8% | E20: =INT((E8+E11)*7.8%) -> 0
C21: 환 경 보 전 비 | D21: (재+직.노+기.경)*0.3% | E21: =INT((E8+E9+E12)*0.3%) -> 0
C22: 건설하도급보증수수료 | D22: (재+직.노+기.경)*0.081%
C23: 건설기계대여보증수수료 | E23: =ROUNDDOWN((E8+E9+E12)*H23, 0) -> 0
C24: 공사이행 보증 수수료 | D24: ((재+직.노+기.경)*0.0141%*공기(년)
C25: 소 계 | E25: =SUM(E12:E24) -> 0
B26: 계 | E26: =E8+E11+E25 -> 0
A27: 일 반 관 리 비 | D27: (재+노+경)*6% | E27: =INT((E8+E11+E25)*6%) -> 0
A28: 이 윤 | D28: (노+경+일)*15%
A29: 폐 기 물 처 리 비
A30: 총 원 가
A31: 부 가 가 치 세 | D31: (총원가)*10%
A32: 도 급 금 액

Sheet 집계표
A1: 집 계 표
A2: 공사명 : 대구국제사격장 시설물 보수공사
A3: 품 명 | B3: 규 격 | C3: 단위 | D3: 수 량 | E3: 재 료 비 | G3: 노 무 비 | I3: 경 비 | K3: 합 계 | M3: 비고
E4: 단 가 | F4: 금 액 | G4: 단 가 | H4: 금 액 | I4: 단 가 | J4: 금 액 | K4: 단 가 | L4: 금 액 | N4: 손료요율 | O4: 손료구분 | P4: 적용구분 | Q4: 합계구분 | R4: 기계경비 | S4: 운반비 | T4: 작업부산물 | U4: 관급 | V4: 외주비 | W4: 장비비 | X4: 폐기물처리비 | Y4: 가설비 | Z4: 잡비제외분 | AA4: 사급자재대 | AB4: 관급자재대 | AC4: 도급자관급 | AD4: 품질시험비 | AE4: 관급자관급 | AF4: 안전관리계획및점검 | AG4: 상수도인입분담금 | AH4: 가스시설분담금 | AI4: 가시설계측비 | AJ4: 신기술특허사용료 | AK4: 가시설계측비 | AL4: 간접재료비 | AM4: 품목구분 | AN4: 조달코드
A5: =내역서!A5 -> 1. 가설공사 | C5: 식 | D5: 1 | E5: =내역서!F28 -> 0 | F5: =INT(E5*D5) -> 0 | G5: =내역서!H28 -> 0 | H5: =INT(G5*D5) -> 0 | I5: =내역서!J28 -> 0 | J5: =D5*I5 -> 0 | K5: =E5+G5+I5 -> 0 | L5: =F5+H5+J5 -> 0 | Q5: 1 | R5: =D5*내역서!#REF! -> #REF! | S5: =D5*내역서!#REF! -> #REF! | T5: =D5*내역서!#REF! -> #REF! | U5: =D5*내역서!#REF! -> #REF! | V5: =D5*내역서!#REF! -> #REF! | W5: =D5*내역서!#REF! -> #REF! | X5: =D5*내역서!#REF! -> #REF! | Y5: =D5*내역서!#REF! -> #REF! | Z5: =D5*내역서!#REF! -> #REF! | AA5: =D5*내역서!#REF! -> #REF! | AB5: =D5*내역서!#REF! -> #REF! | AC5: =D5*내역서!#REF! -> #REF! | AD5: =D5*내역서!#REF! -> #REF! | AE5: =D5*내역서!#REF! -> #REF! | AF5: =D5*내역서!#REF! -> #REF! | AG5: =D5*내역서!#REF! -> #REF! | AH5: =D5*내역서!#REF! -> #REF! | AI5: =D5*내역서!#REF! -> #REF! | AJ5: =D5*내역서!#REF! -> #REF! | AK5: =D5*내역서!#REF! -> #REF! | AL5: =D5*내역서!#REF! -> #REF!
A6: =내역서!A29 -> 2. 미장공사 | C6: 식 | D6: 1 | E6: =내역서!F52 -> 0 | F6: =INT(E6*D6) -> 0 | G6: =내역서!H52 -> 0 | H6: =INT(G6*D6) -> 0 | I6: =내역서!J52 -> 0 | J6: =D6*I6 -> 0 | K6: =E6+G6+I6 -> 0 | L6: =F6+H6+J6 -> 0 | Q6: 1 | R6: =D6*내역서!#REF! -> #REF! | S6: =D6*내역서!#REF! -> #REF! | T6: =D6*내역서!#REF! -> #REF! | U6: =D6*내역서!#REF! -> #REF! | V6: =D6*내역서!#REF! -> #REF! | W6: =D6*내역서!#REF! -> #REF! | X6: =D6*내역서!#REF! -> #REF! | Y6: =D6*내역서!#REF! -> #REF! | Z6: =D6*내역서!#REF! -> #REF! | AA6: =D6*내역서!#REF! -> #REF! | AB6: =D6*내역서!#REF! -> #REF! | AC6: =D6*내역서!#REF! -> #REF! | AD6: =D6*내역서!#REF! -> #REF! | AE6: =D6*내역서!#REF! -> #REF! | AF6: =D6*내역서!#REF! -> #REF! | AG6: =D6*내역서!#REF! -> #REF! | AH6: =D6*내역서!#REF! -> #REF! | AI6: =D6*내역서!#REF! -> #REF! | AJ6: =D6*내역서!#REF! -> #REF! | AK6: =D6*내역서!#REF! -> #REF! | AL6: =D6*내역서!#REF! -> #REF!
A7: =내역서!A53 -> 3. 칠공사 | C7: 식 | D7: 1 | E7: =내역서!F77 -> 0 | F7: =INT(E7*D7) -> 0 | G7: =내역서!H77 -> 0 | H7: =INT(G7*D7) -> 0 | I7: =내역서!J77 -> 0 | J7: =D7*I7 -> 0 | K7: =E7+G7+I7 -> 0 | L7: =F7+H7+J7 -> 0 | Q7: 1 | R7: =D7*내역서!#REF! -> #REF! | S7: =D7*내역서!#REF! -> #REF! | T7: =D7*내역서!#REF! -> #REF! | U7: =D7*내역서!#REF! -> #REF! | V7: =D7*내역서!#REF! -> #REF! | W7: =D7*내역서!#REF! -> #REF! | X7: =D7*내역서!#REF! -> #REF! | Y7: =D7*내역서!#REF! -> #REF! | Z7: =D7*내역서!#REF! -> #REF! | AA7: =D7*내역서!#REF! -> #REF! | AB7: =D7*내역서!#REF! -> #REF! | AC7: =D7*내역서!#REF! -> #REF! | AD7: =D7*내역서!#REF! -> #REF! | AE7: =D7*내역서!#REF! -> #REF! | AF7: =D7*내역서!#REF! -> #REF! | AG7: =D7*내역서!#REF! -> #REF! | AH7: =D7*내역서!#REF! -> #REF! | AI7: =D7*내역서!#REF! -> #REF! | AJ7: =D7*내역서!#REF! -> #REF! | AK7: =D7*내역서!#REF! -> #REF! | AL7: =D7*내역서!#REF! -> #REF!
A8: =내역서!A78 -> 4. 철거공사 | C8: 식 | D8: 1 | E8: =내역서!F101 -> 0 | G8: =내역서!H101 -> 0 | H8: =INT(G8*D8) -> 0 | K8: =E8+G8+I8 -> 0 | L8: =F8+H8+J8 -> 0 | Q8: 1 | R8: =D8*내역서!#REF! -> #REF! | S8: =D8*내역서!#REF! -> #REF! | T8: =D8*내역서!#REF! -> #REF! | U8: =D8*내역서!#REF! -> #REF! | V8: =D8*내역서!#REF! -> #REF! | W8: =D8*내역서!#REF! -> #REF! | X8: =D8*내역서!#REF! -> #REF! | Y8: =D8*내역서!#REF! -> #REF! | Z8: =D8*내역서!#REF! -> #REF! | AA8: =D8*내역서!#REF! -> #REF! | AB8: =D8*내역서!#REF! -> #REF! | AC8: =D8*내역서!#REF! -> #REF! | AD8: =D8*내역서!#REF! -> #REF! | AE8: =D8*내역서!#REF! -> #REF! | AF8: =D8*내역서!#REF! -> #REF! | AG8: =D8*내역서!#REF! -> #REF! | AH8: =D8*내역서!#REF! -> #REF! | AI8: =D8*내역서!#REF! -> #REF! | AJ8: =D8*내역서!#REF! -> #REF! | AK8: =D8*내역서!#REF! -> #REF! | AL8: =D8*내역서!#REF! -> #REF!
A9: =내역서!A102 -> 5. 폐기물처리비 | C9: 식 | D9: 1 | I9: =내역서!J125 -> 0 | J9: =INT(I9*D9) -> 0 | K9: =E9+G9+I9 -> 0 | L9: =F9+H9+J9 -> 0 | M9: 합계제외
A28: 합 계 | F28: =SUM(F5:F8) -> 0 | H28: =SUM(H5:H8) -> 0 | J28: =SUMIF(Q5:Q8, "1", J5:J8) -> 0 | L28: =SUM(L5:L8) -> 0 | R28: =SUM(R5:R8) -> #REF! | S28: =SUM(S5:S8) -> #REF! | T28: =SUM(T5:T8) -> #REF! | U28: =SUM(U5:U8) -> #REF! | V28: =SUM(V5:V8) -> #REF! | W28: =SUM(W5:W8) -> #REF! | X28: =SUM(X5:X8) -> #REF! | Y28: =SUM(Y5:Y8) -> #REF! | ... AL28: =SUM(AL5:AL8) -> #REF!

Sheet 내역서
A1: 내 역 서
A2: 공사명 : 대구국제사격장 시설물 보수공사
A3: 품 명 | B3: 규 격 | C3: 단위 | D3: 수 량 | E3: 재 료 비 | G3: 노 무 비 | I3: 경 비 | K3: 합 계 | M3: 비고
E4: 단 가 | F4: 금 액 | G4: 단 가 | H4: 금 액 | I4: 단 가 | J4: 금 액 | K4: 단 가 | L4: 금 액
A5: 1. 가설공사
A6: 이동식강관말비계 | B6: 3개월, 1단 | C6: 대 | D6: 7
A7: 건축물 현장정리 | B7: 개보수 | C7: ㎡ | D7: 217.8
A28: 합 계
A29: 2. 미장공사
A30: 모르타르 바름 | B30: 1:3, 3.6m 이하, 3회 | C30: ㎡ | D30: 10
A52: 합 계
A53: 3. 칠공사
A54: 수성페인트칠 | B54: 내부, 롤러, 벽체, 2회 | C54: ㎡ | D54: 856.4
A55: 수성페인트칠 | B55: 내부, 롤러, 천장, 2회 | C55: ㎡ | D55: 150.5
A56: 수성페인트칠 | B56: 외부, 롤러, 벽체, 2회 | C56: ㎡ | D56: 1797.6
A57: 수성페인트칠 | B57: 외부, 롤러, 천장, 2회 | C57: ㎡ | D57: 387.6
A58: 실리콘페인트칠 | B58: 롤러, 벽체, 2회 | C58: ㎡ | D58: 280.1
A59: 실리콘페인트칠 | B59: 롤러, 천장, 2회 | C59: ㎡ | D59: 67.2
A60: 비닐페인트칠 | B60: 롤러, 2회 | C60: ㎡ | D60: 30.7
A61: 유성페인트칠 | B61: 붓, 철재면, 2회 | C61: ㎡ | D61: 747.6
A62: 오일스테인칠 | B62: 붓, 목재면, 2회 | C62: ㎡ | D62: 51.4
A63: 에폭시페인트칠 | B63: 바닥, 상도 2회 | C63: ㎡ | D63: 1492
A64: 걸레받이페인트칠 | B64: 붓, 2회 | C64: ㎡ | D64: 43.5
A65: 무늬코트칠 | B65: 하도 2회, 퍼티 및 연마, 무늬코트 1회, 상도 1회 | C65: ㎡ | D65: 10
A66: 녹막이페인트칠 | B66: 붓, 철재면, 1회 | C66: ㎡ | D66: =(D61)*0.2 -> 149.52
A67: 에폭시페인트칠 | B67: 바닥, 상도 1회, 라인마킹 | C67: ㎡ | D67: 22.49
A77: 합 계
A78: 4. 철거공사
A79: 모르타르 철거 | B79: 20mm | C79: ㎡ | D79: 10
A101: 합 계
A102: 5. 폐기물처리비
A103: 폐기물처리비 | B103: 상차 및 운반, 15ton 덤프, 30Km | C103: ton | D103: 0.2
A104: 폐기물처리비 | B104: 폐콘크리트 | C104: ton | D104: 0.2
A125: 합 계
