Workbook

Sheet 원가(총괄)
A2: 원 가 계 산 서
A3: 공사명 : 명복공원 화장동 내진보강 및 시설물 보수공사
A4: 1. 총 공 사 비 | F4: 가 + 나 + 다 | H4: =INT(H5+H8+H11) -> 0
A5: 가. 재 료 비 | H5: =INT(H6-H7) -> 0
A6: 가-1 직 접 재 료 비 | H6: =총집계표!F9 -> 0
A7: 가-2 부 산 물 공 제
A8: 나. 노 무 비 | H8: =INT(H9+H10) -> 0
A9: 나-1 직 접 노 무 비 | H9: =총집계표!H9 -> 0
A10: 나-2 간 접 노 무 비 | F10: 나 - 1 | G10: 0.125 | H10: =INT(H9*G10) -> 0
A11: 다. 경 비 | H11: =INT(SUM(H12:H28))-H21-H22 -> 0
A12: 다-1 기 계 경 비 | F12: 품셈에서산출 | H12: =총집계표!J9 -> 0
A13: 다-2 산 재 보 험 료 | F13: 나 | G13: 0.037 | H13: =INT(H8*G13) -> 0
A14: 다-3 고 용 보 험 료 | F14: 나 | G14: 0.0101 | H14: =INT((H8)*G14) -> 0
A15: 다-4 건 강 보 험 료 | F15: 나-1 | G15: 0.03495 | H15: =INT((H9)*G15) -> 0
A16: 다-5 노인장기요양보험료 | F16: 건강보험료 | G16: 0.1227 | H16: =INT((H15)*G16) -> 0
A17: 다-6 연 금 보 험 료 | F17: 나-1 | G17: 0.045 | H17: =INT((H9)*G17) -> 0
A18: 다-7 퇴 직 공 제 부 제 금 | F18: 나-1 | G18: 0.023 | H18: =INT((H9)*G18) -> 0
A19: 다-8 산업안전보건관리비 | F19: 가+나1 | G19: 0.0293 | H19: =INT((H5+H9)*G19) -> 0
A20: 다-9 산업안전보건관리비기초액 | H20: 0
F21: 1안 - (관급자재대/1.1) | G21: 0.0293 | H21: =INT((J39/1.1)*G21) -> 0
A22: 다-10 산업안전보건관리비(관급) | F22: 2안 - (가+나1) | G22: 0%+다9* 20% | H22: =INT((H19+H20)*0.2)*0 -> 0
G23: 적용 | H23: =MIN(H21,H22) -> 0
A24: 다-11 기 타 경 비 | F24: 가+나 | G24: 0.078 | H24: =INT((H5+H8)*G24) -> 0
A25: 다-12 환 경 보 전 비 | F25: 가+나-1+다-1 | G25: 0.005 | H25: =INT((H5+H9+H12)*G25) -> 0
A26: 다-13 품 질 시 험 비
A27: 다-13 하도급대금지급수수료 | F27: 가+나-1+다-1 | G27: 0.00081 | H27: =INT((H5+H9+H12)*G27) -> 0
A28: 다-14 기계대여대금지급수수료 | F28: 가+나-1+다-1 | G28: 0.0007 | H28: =INT((H5+H9+H12)*G28) -> 0
A29: 2. 일 반 관 리 비 | F29: 1 의 | G29: 0.06 | H29: =INT(H4*G29) -> 0
A30: 3. 이 윤 | F30: 1 나 + 1 다 + 2 | G30: 0.15 | H30: 0
A31: 4. 작 업 부 산 물 | H31: =총집계표!F12 -> 0
A32: 5. 폐 기 물 처 리 비 | H32: =총집계표!J16 -> 0
A33: 6. 정 기 안 전 점 검 비
A34: 7. 계 측 기 기 설 치 비
A35: 6. 합 계 | F35: 1 + 2 + 3 + 4 + 5 | H35: =INT(H4+H29+H30+H31+H34+H32+H33) -> 0
A36: 7. 부 가 가 치 세 | F36: 6 의 | G36: 0.1 | H36: 0
A37: 8. 도 급 공 사 비 | F37: 6 + 7 | H37: 0
A39: 9. 도 급 자 관 급 자 재 비
A40: 10. 관 급 자 관 급 자 재 비
A41: 11. 총 공 사 비 계 | H41: =SUM(H37:H40) -> 0

Sheet 총집계표
A1: 총 집 계 표
A2: [ 명복공원 화장동 내진보강 및 시설물 보수공사 ]
A3: 품 명 | B3: 규 격 | C3: 단위 | D3: 수량 | E3: 재 료 비 | G3: 노 무 비 | I3: 경 비 | K3: 합 계 | M3: 비 고 | N3: 공종코드 | O3: 변수 | P3: 상위공종 | Q3: 공종구분 | R3: 공종레벨 | S3: 공종소계 | T3: 원가계산서 연결금액
E4: 단 가 | F4: 금 액 | G4: 단 가 | H4: 금 액 | I4: 단 가 | J4: 금 액 | K4: 단 가 | L4: 금 액
A5: 01 명복공원 화장동 내진보강 및 시설물 보수공사
A6: 0101 내진 보강공사 | D6: 1
A7: 0102 케노피 설치 | D7: 1 | N7: 010101 | P7: 0101 | R7: 3
A8: 0103 옥상 방수공사 | D8: 1 | N8: 010102 | P8: 0101 | R8: 3
A9: [ 합 계 ]
A11: 0101 내진 보강공사 | B11: 작업부산물 | D11: 1
A12: [ 합 계 ]
A14: 0101 내진 보강공사 | B14: 폐기물처리비 | D14: 1
A15: 0102 케노피 설치 | B15: 폐기물처리비 | D15: 1 | N15: 010101 | P15: 0101 | R15: 3
A16: [ 합 계 ]

Sheet 공종별집계표
A1: 공 종 별 집 계 표
A2: [ 명복공원 화장동 내진보강 및 시설물 보수공사 ]
A3: 품 명 | B3: 규 격 | C3: 단위 | D3: 수량 | E3: 재 료 비 | G3: 노 무 비 | I3: 경 비 | K3: 합 계 | M3: 비 고 | N3: 공종코드 | O3: 변수 | P3: 상위공종 | Q3: 공종구분 | R3: 공종레벨 | S3: 공종소계 | T3: 원가계산서 연결금액
E4: 단 가 | F4: 금 액 | G4: 단 가 | H4: 금 액 | I4: 단 가 | J4: 금 액 | K4: 단 가 | L4: 금 액
A5: 01 명복공원 화장동 내진보강 및 시설물 보수공사
A6: 0101 내진 보강공사
A7: 010101 가 설 공 사 | D7: 1 | N7: 010101 | P7: 0101 | R7: 3
A8: 010102 토 공 사 | D8: 1 | N8: 010102 | P8: 0101 | R8: 3
A9: 010103 철근콘크리트공사 | D9: 1 | N9: 010103 | P9: 0101 | R9: 3
A10: 010104 철 골 공 사 | D10: 1 | N10: 010104 | P10: 0101 | R10: 3
A11: 010105 조 적 공 사 | D11: 1 | N11: 010105 | P11: 0101 | R11: 3
A12: 010106 석 공 사 | D12: 1 | N12: 010106 | P12: 0101 | R12: 3
A13: 010107 목 공 사 | D13: 1 | N13: 010107 | P13: 0101 | R13: 3
A14: 010108 지붕및홈통공사 | D14: 1 | N14: 010108 | P14: 0101 | R14: 3
A15: 010109 금속및미장공사 | D15: 1 | N15: 010109 | P15: 0101 | R15: 3
A16: 010110 창호및유리공사 | D16: 1 | N16: 010110 | P16: 0101 | R16: 3
A17: 010111 도 장 공 사 | D17: 1 | N17: 010111 | P17: 0101 | R17: 3
A18: 010112 수 장 공 사 | D18: 1 | N18: 010112 | P18: 0101 | R18: 3
... A20: 010114 철 거 공 사 | D20: 1 | N20: 010114 | P20: 0101 | R20: 3
A21: 010115 골 재 대 | D21: 1 | N21: 010115 | P21: 0101 | R21: 3 | S21: <
A22: [ 합 계 ]
A23: 010116 작 업 부 산 물 | D23: 1 | N23: 010116 | Q23: 1 | R23: 3 | T23: =L23*1 -> 0
A24: 010117 폐기물 처리비 | D24: 1 | N24: 010117 | Q24: 6 | R24: 3 | T24: =L24*1 -> 0
A28: 0102 케노피 설치
A29: 010201 차양 설치 | D29: 1 | N29: 010201 | P29: 0102 | R29: 3
A30: [ 합 계 ]
A31: 010202 폐기물 처리비 | D31: 1 | N31: 010202 | Q31: 6 | R31: 3 | T31: =L31*1 -> 0
A33: 0103 옥상 방수공사 | D33: 1 | N33: 0103 | P33: 01 | R33: 2
A34: [ 합 계 ]

Sheet 공종별내역서
A1: [ 명복공원 화장동 내진보강 및 시설물 보수공사 ]
A2: 품 명 | B2: 규 격 | C2: 단위 | D2: 수량 | E2: 재 료 비 | G2: 노 무 비 | I2: 경 비 | K2: 합 계 | M2: 비 고 | N2: 품목코드 | O2: 변수 | P2: 설정 | Q2: 공종코드 | R2: 일위 | S2: 단산 | T2: 자재 | U2: 손료적용 | V2: 손료저장 | W2: 적용율 | X2: JUK1 | Y2: JUK2 | Z2: JUK3 | AA2: JUK4 | AB2: JUK5 | AC2: JUK6 | AD2: JUK7 | AE2: JUK8 | AF2: JUK9 | AG2: JUK10 | AH2: JUK11 | AI2: JUK12 | AJ2: JUK13 | AK2: JUK14 | AL2: JUK15 | AM2: JUK16 | AN2: JUK17 | AO2: JUK18 | AP2: JUK19 | AQ2: JUK20 | AR2: 자재구분 | AS2: 공종구분 | AT2: 공종레벨 | AU2: 공종+자재 | AV2: 고유번호
E3: 단 가 | F3: 금 액 | G3: 단 가 | H3: 금 액 | I3: 단 가 | J3: 금 액 | K3: 단 가 | L3: 금 액
A4: 010101 가 설 공 사 | B4: [내진 보강공사] | Q4: 010101
A5: 콘테이너형 가설사무소 설치 및 해체 | B5: 3.0*6.0m, 3개월 | C5: 개소 | D5: 1 | N5: 5342832F00642F79590132F429351B | Q5: 010101 | R5: T | S5: F | T5: F | AU5: 0101015342832F00642F79590132F429351B | AV5: 27
A6: 수평 규준틀 | B6: 귀 | C6: 개소 | D6: 1 | N6: 5342832C0068FD7759313907B3D402 | Q6: 010101 | R6: T | S6: F | T6: F | AU6: 0101015342832C0068FD7759313907B3D402 | AV6: 26
A7: 강관 조립말비계(이동식)설치 및 해체 | B7: 높이 2m, 3개월 | C7: 대 | D7: 1 | N7: 5342832C0068FD77582D98F677322B | Q7: 010101 | R7: T | S7: F | T7: F | AU7: 0101015342832C0068FD77582D98F677322B | AV7: 28
A8: 건축물보양 - 석재면, 테라조면 | B8: 하드롱지 | C8: M2 | D8: 16 | N8: 534283290063A31355EFE122C311C4 | Q8: 010101 | R8: T | S8: F | T8: F | AU8: 010101534283290063A31355EFE122C311C4 | AV8: 30
A9: 건축물보양 - 콘크리트 | B9: 살수 | C9: M2 | D9: 15 | N9: 534283290063A31355EC2F6ABE2115 | Q9: 010101 | R9: T | S9: F | T9: F | AU9: 010101534283290063A31355EC2F6ABE2115 | AV9: 31
A10: 건축물 현장정리 | B10: 개보수 | C10: M2 | D10: 40 | N10: 53428329006392D959C7D875982327 | Q10: 010101 | R10: T | S10: F | T10: F | AU10: 01010153428329006392D959C7D875982327 | AV10: 32
A11: 건축물 현장정리 | B11: 철근콘크리트조 | C11: M2 | D11: 15 | N11: 53428329006392D959C37D0657BFDB | Q11: 010101 | R11: T | S11: F | T11: F | AU11: 01010153428329006392D959C37D0657BFDB | AV11: 33
A12: 먹매김 | B12: 일반 | C12: M2 | D12: 15 | N12: 534283290063A31356F7FD59838ADF | Q12: 010101 | R12: T | S12: F | T12: F | AU12: 010101534283290063A31356F7FD59838ADF | AV12: 34
A13: 공사용안전가림막설치 | B13: 판넬50T,정첩및시건장치포함 | C13: M2 | D13: 22 | N13: 53428329006392D959C404D99A37C4 | Q13: 010101 | R13: T | S13: F | T13: F | AU13: 01010153428329006392D959C404D99A37C4 | AV13: 35
A14: 고소작업차 | B14: 3ton | C14: 일 | D14: 7 | N14: 5458C34A00639D905182A645DEEF32FBA77371BD | Q14: 010101 | R14: T | S14: F | T14: F | AU14: 0101015458C34A00639D905182A645DEEF32FBA77371BD | AV14: 37
A27: [ 합 계 ] | N27: TOTAL
A28: 010102 토 공 사 | B28: [내진 보강공사] | Q28: 010102
A29: 터파기/토사 | B29: 보통, 굴삭기 0.7m3 | C29: M3 | D29: 57 | N29: 5342B363006A767F59948D67D7AD76 | Q29: 010102 | R29: T | S29: F | T29: F | AU29: 0101025342B363006A767F59948D67D7AD76 | AV29: 262
A30: 되메우기/토사, 두께 15cm | B30: 보통, 굴삭기 0.7m3+래머 80kg | C30: M3 | D30: 46 | N30: 5342B363006A767F59948D67D7AD74 | Q30: 010102 | R30: T | S30: F | T30: F | AU30: 0101025342B363006A767F59948D67D7AD74 | AV30: 263
A31: 토사 운반/단지외 10km | B31: 보통, 덤프 15ton+굴삭기 0.7m3(고르기 별도) | C31: M3 | D31: 11 | N31: 5342B363006A767F59948D67D7AD72 | Q31: 010102 | R31: T | S31: F | T31: F | AU31: 0101025342B363006A767F59948D67D7AD72 | AV31: 264
A32: 방습필름 설치 - 바닥 | B32: 폴리에틸렌필름, 두께, 0.05mm, 1겹 | C32: M2 | D32: 25 | N32: 534263E4006236315FF9276769F71C | Q32: 010102 | R32: T | S32: F | T32: F | AU32: 010102534263E4006236315FF9276769F71C | AV32: 41
A33: 잡석지정 | B33: (인력+장비)굴삭기 0.2m3+진동롤러(핸드가이드식) | C33: M3 | D33: 4 | N33: 5342A37A006BCF2954532D599069A8 | Q33: 010102 | R33: T | S33: F | T33: F | AU33: 0101025342A37A006BCF2954532D599069A8 | AV33: 42
A34: 마이크로 파일공사 | B34: Ø65mm | C34: 공 | D34: 6 | N34: 5343839800605E4751AB96373D1527 | Q34: 010102 | R34: T | S34: F | T34: F | AU34: 0101025343839800605E4751AB96373D1527 | AV34: 265
A35: 재하시험 | B35: 인발재하시험 | C35: 식 | D35: 1 | N35: 52FA63030065EE385E959CB69A4BA1A9B8FF18 | Q35: 010102 | R35: F | S35: F | T35: T | AU35: 01010252FA63030065EE385E959CB69A4BA1A9B8FF18 | AV35: 266
A51: [ 합 계 ] | N51: TOTAL
A52: 010103 철근콘크리트공사 | B52: [내진 보강공사] | Q52: 010103
A53: 레미콘 - 대구 | B53: 25-18-12 | C53: M3 | D53: 5 | N53: 546933BD006375175755CD69D2E33E035DE092 | Q53: 010103 | R53: F | S53: F | T53: T | AU53: 010103546933BD006375175755CD69D2E33E035DE092 | AV53: 118
A54: 레미콘 - 대구 | B54: 25-27-15 | C54: M3 | D54: 9 | N54: 546933BD006375175755CD69D2E33E035DE1B0 | Q54: 010103 | R54: F | S54: F | T54: T | AU54: 010103546933BD006375175755CD69D2E33E035DE1B0 | AV54: 119
A55: 레디믹스트콘크리트 인력운반 타설 | B55: 무근구조물 | C55: M3 | D55: 5 | N55: 5342D3A9006049BB53CFDF0E3B516C | Q55: 010103 | R55: T | S55: F | T55: F | AU55: 0101035342D3A9006049BB53CFDF0E3B516C | AV55: 121
A56: 레디믹스트콘크리트 인력운반 타설 | B56: 철근구조물 | C56: M3 | D56: 9 | N56: 5342D3A9006049BB53CFDCB9D53F9B | Q56: 010103 | R56: T | S56: F | T56: F | AU56: 0101035342D3A9006049BB53CFDCB9D53F9B | AV56: 120
A57: 철근콘크리트용봉강 | B57: 철근콘크리트용봉강, 이형봉강(SD400), HD-10, 지정장소도 | C57: TON | D57: 0.264 | N57: 546933BD0063648555D5A1A3891177FD4E3D09 | Q57: 010103 | R57: F | S57: F | T57: T | AU57: 010103546933BD0063648555D5A1A3891177FD4E3D09 | AV57: 122
A58: 철근콘크리트용봉강 | B58: 철근콘크리트용봉강, 이형봉강(SD400), HD-19, 지정장소도 | C58: TON | D58: 0.454 | N58: 546933BD0063648555D5A1A3891177FD4B69AA | Q58: 010103 | R58: F | S58: F | T58: T | AU58: 010103546933BD0063648555D5A1A3891177FD4B69AA | AV58: 123
A59: 철근계 | C59: TON | D59: 0.697 | N59: 52FA63030065EE385E959CB69A4BA1A9B8F63C | Q59: 010103 | R59: F | S59: F | T59: T | AU59: 01010352FA63030065EE385E959CB69A4BA1A9B8F63C | AV59: 153
A60: 철근 현장가공 및 현장조립 | B60: Type-Ⅰ, 소형구조물 | C60: TON | D60: 0.697 | N60: 5342D3AD006FFC245004D91B223EAA | Q60: 010103 | R60: T | S60: F | T60: F | AU60: 0101035342D3AD006FFC245004D91B223EAA | AV60: 124
A61: 합판거푸집 설치 및 해체 | B61: 보통 4회, 수직고 7m까지 | C61: M2 | D61: 23 | N61: 5342D3AE00687BBC5916948C39EE22 | Q61: 010103 | R61: T | S61: F | T61: F | AU61: 0101035342D3AE00687BBC5916948C39EE22 | AV61: 125
A62: 유로폼 설치 및 해체 | B62: 간단, 수직고 7m까지 | C62: M2 | D62: 12 | N62: 5342D3AE0068113C5D32B50F992D40 | Q62: 010103 | R62: T | S62: F | T62: F | AU62: 0101035342D3AE0068113C5D32B50F992D40 | AV62: 126
A63: 케미칼앵커 | B63: HY200 + HD10 | C63: EA | D63: 56 | N63: 5343839800605E4751AB96373D1525 | Q63: 010103 | R63: T | S63: F | T63: F | AU63: 0101035343839800605E4751AB96373D1525 | AV63: 267
A64: 케미칼앵커 | B64: HY200 + HD19 | C64: EA | D64: 174 | N64: 5343839800605E4751AB96373D152B | Q64: 010103 | R64: T | S64: F | T64: F | AU64: 0101035343839800605E4751AB96373D152B | AV64: 268
A65: 인발테스트 | C65: 회 | D65: 1 | N65: 5343839800605E4751AB96373D1F26 | Q65: 010103 | R65: T | S65: F | T65: F | AU65: 0101035343839800605E4751AB96373D1F26 | AV65: 166
A66: 자기탐상시험(MT) | C66: 회 | D66: 1 | N66: 52FA63030065EE385E959CB69A4BA1A9B8F515 | Q66: 010103 | R66: F | S66: F | T66: T | AU66: 01010352FA63030065EE385E959CB69A4BA1A9B8F515 | AV66: 167
A67: 철강설 | B67: 철강설, 고철, 작업설부산물 | C67: kg | D67: -21 | N67: 544E433B00665EE1554067A7AFF22166854CE0 | Q67: 010103 | R67: F | S67: F | T67: T | AU67: 010103544E433B00665EE1554067A7AFF22166854CE0 | AV67: 127
A75: [ 합 계 ] | N75: TOTAL
A76: 010104 철 골 공 사 | B76: [내진 보강공사] | Q76: 010104
A77: H형강 | B77: SS275, 250*250*9*14mm, 현장도착도 | C77: KG | D77: 5781 | N77: 546933BD0063648554CEB2BC7BB3DE3161F370 | Q77: 010104 | R77: F | S77: F | T77: T | AU77: 010104546933BD0063648554CEB2BC7BB3DE3161F370 | AV77: 130
A78: 일반구조용압연강판 | B78: 6.0mm | C78: KG | D78: 1029 | N78: 546933BD006364B255D8D4618DB27284D3D9CE | Q78: 010104 | R78: F | S78: F | T78: T | AU78: 010104546933BD006364B255D8D4618DB27284D3D9CE | AV78: 131
A79: 일반구조용압연강판 | B79: 7.0mm | C79: KG | D79: 94 | N79: 546933BD006364B255D8D4618CA1038F5C13E0 | Q79: 010104 | R79: F | S79: F | T79: T | AU79: 010104546933BD006364B255D8D4618CA1038F5C13E0 | AV79: 132
A80: 일반구조용압연강판 | B80: 9.0mm | C80: KG | D80: 453 | N80: 546933BD006364B255D8D4618CA1038F5C12C1 | Q80: 010104 | R80: F | S80: F | T80: T | AU80: 010104546933BD006364B255D8D4618CA1038F5C12C1 | AV80: 133
A81: 일반구조용압연강판 | B81: 14.0mm | C81: KG | D81: 317 | N81: 546933BD006364B255D8D4618DB27284D3D9C3 | Q81: 010104 | R81: F | S81: F | T81: T | AU81: 010104546933BD006364B255D8D4618DB27284D3D9C3 | AV81: 134
A82: 일반구조용압연강판 | B82: 15.0mm | C82: KG | D82: 2006 | N82: 546933BD006364B255D8D4618CA1038F5C12C5 | Q82: 010104 | R82: F | S82: F | T82: T | AU82: 010104546933BD006364B255D8D4618CA1038F5C12C5 | AV82: 135
A83: 일반구조용압연강판 | B83: 40.0mm | C83: KG | D83: 350 | N83: 546933BD006364B255D8D4618CA1038F5D2336 | Q83: 010104 | R83: F | S83: F | T83: T | AU83: 010104546933BD006364B255D8D4618CA1038F5D2336 | AV83: 136
A84: 고장력볼트 | B84: 고장력볼트, F10T, M20*60mm | C84: 조 | D84: 330 | N84: 546923940067982259CB4F6A06DD8F8394D06C | Q84: 010104 | R84: F | S84: F | T84: T | AU84: 010104546923940067982259CB4F6A06DD8F8394D06C | AV84: 144
A85: 철골 가공 조립(표준 라멘구조) | B85: Rolled shape, 60ton 미만 | C85: TON | D85: 9.369 | N85: 5342C34B0068659456B97DCA14BA56 | Q85: 010104 | R85: T | S85: F | T85: F | AU85: 0101045342C34B0068659456B97DCA14BA56 | AV85: 139
A86: 철골세우기 - 6층 미만 | B86: 50kg/m2 미만, 10∼15ton 미만 | C86: TON | D86: 9.369 | N86: 5342C34D006B7294565A6A33118691 | Q86: 010104 | R86: T | S86: F | T86: F | AU86: 0101045342C34D006B7294565A6A33118691 | AV86: 137
A87: 철골 세우기 - 크레인(타이어) 10ton | B87: 기타 | C87: TON | D87: 9.369 | N87: 5342832E006BB2575F5F890E7F260D | Q87: 010104 | R87: T | S87: F | T87: F | AU87: 0101045342832E006BB2575F5F890E7F260D | AV87: 138
A88: 고장력 볼트 본조임 | B88: 50본/t 미만, 300ton 이상~500ton 미만 | C88: TON | D88: 9.369 | N88: 5342C34D006BCAAB59180ADA356635 | Q88: 010104 | R88: T | S88: F | T88: F | AU88: 0101045342C34D006BCAAB59180ADA356635 | AV88: 141
... A98: 철강설 | B98: 철강설, 고철, 작업설부산물 | C98: kg | D98: -668 | N98: 544E433B00665EE1554067A7AFF22166854CE0 | Q98: 010104 | R98: F | S98: F | T98: T | AU98: 010104544E433B00665EE1554067A7AFF22166854CE0 | AV98: 152
A99: [ 합 계 ] | N99: TOTAL
A100: 010105 조 적 공 사 | B100: [내진 보강공사] | Q100: 010105
A101: 콘크리트벽돌 | B101: 콘크리트벽돌, 190*57*90mm, 대구, C종2급 | C101: 매 | D101: 591 | N101: 546933BD00635A2F5650F0F4F8FA5683487C8B | Q101: 010105 | R101: F | S101: F | T101: T | AU101: 010105546933BD00635A2F5650F0F4F8FA5683487C8B | AV101: 43
A102: 1.0B 벽돌쌓기 | B102: 3.6m 이하 | C102: M2 | D102: 4 | N102: 5342F3FD0065E94B571CD691811C6C | Q102: 010105 | R102: T | S102: F | T102: F | AU102: 0101055342F3FD0065E94B571CD691811C6C | AV102: 44
A103: 철근콘크리트인방 | B103: 200*200 | C103: M | D103: 2 | N103: 5342F3EE006DBDA655CAA2713C4E8A | Q103: 010105 | R103: T | S103: F | T103: F | AU103: 0101055342F3EE006DBDA655CAA2713C4E8A | AV103: 45
A104: 벽돌운반 | B104: 인력, 1층 | C104: 천매 | D104: 0.563 | N104: 5342F3FD0065CE6D5801457ACC90F5 | Q104: 010105 | R104: T | S104: F | T104: F | AU104: 0101055342F3FD0065CE6D5801457ACC90F5 | AV104: 46
A123: [ 합 계 ] | N123: TOTAL
A124: 010106 석 공 사 | B124: [내진 보강공사] | Q124: 010106
A125: 화강석붙임(습식, 버너) | B125: 바닥, 거창석 30mm, 모르타르 30mm | C125: M2 | D125: 16 | N125: 53424390006E60A0503DBC7FAEC5F0 | Q125: 010106 | R125: T | S125: F | T125: F | AU125: 01010653424390006E60A0503DBC7FAEC5F0 | AV125: 185
A126: 화강석붙임(건식/앵커, 물갈기) | B126: 벽, 거창석 30mm | C126: M2 | D126: 44 | N126: 53424390006E458C594464D7A8D0AA | Q126: 010106 | R126: T | S126: F | T126: F | AU126: 01010653424390006E458C594464D7A8D0AA | AV126: 48
A127: 화강석붙임(건식/앵커, 물갈기) | B127: 벽, 고흥석 30mm | C127: M2 | D127: 6 | N127: 53424390006E458C594464D7A8D1B1 | Q127: 010106 | R127: T | S127: F | T127: F | AU127: 01010653424390006E458C594464D7A8D1B1 | AV127: 49
A128: 화강석 보강철물(T:375) | B128: ㅁ50*50*3.2t@450*450 | C128: M2 | D128: 32 | N128: 534233A100651E7851C6CF649E0D55 | Q128: 010106 | R128: T | S128: F | T128: F | AU128: 010106534233A100651E7851C6CF649E0D55 | AV128: 165
A147: [ 합 계 ] | N147: TOTAL
A148: 010107 목 공 사 | B148: [내진 보강공사] | Q148: 010107
A149: 벽체틀 설치 | B149: 40*40, @450*600 | C149: M2 | D149: 25 | N149: 534203750064764C5AA318A80CA6AC | Q149: 010107 | R149: T | S149: F | T149: F | AU149: 010107534203750064764C5AA318A80CA6AC | AV149: 50
A150: MDF 설치(벽,못) | B150: 12.0mm | C150: M2 | D150: 7 | N150: 534263E30061894C5DD605C6EAA54C | Q150: 010107 | R150: T | S150: F | T150: F | AU150: 010107534263E30061894C5DD605C6EAA54C | AV150: 51
A151: MDF 붙임(벽,접착) | B151: 12.0mm | C151: M2 | D151: 7 | N151: 534263E30061D16056D172BF1CEAF0 | Q151: 010107 | R151: T | S151: F | T151: F | AU151: 010107534263E30061D16056D172BF1CEAF0 | AV151: 52
A152: 흡음붙임(벽,접착) | B152: 12.0mm, 패브릭 | C152: M2 | D152: 13 | N152: 534263E30061D16056D172BF1FBF76 | Q152: 010107 | R152: T | S152: F | T152: F | AU152: 010107534263E30061D16056D172BF1FBF76 | AV152: 53
A153: 걸레받이 설치 - 중밀도섬유판 | B153: T=9, H=100 | C153: M | D153: 4 | N153: 534263E10066910B52238DD4398113 | Q153: 010107 | R153: T | S153: F | T153: F | AU153: 010107534263E10066910B52238DD4398113 | AV153: 54
A154: 인테리어필름 | B154: 방염우드 | C154: M2 | D154: 7 | N154: 546933BD00632EFD5524CEF38CDCC86F5BF90B | Q154: 010107 | R154: F | S154: F | T154: T | AU154: 010107546933BD00632EFD5524CEF38CDCC86F5BF90B | AV154: 55
A171: [ 합 계 ] | N171: TOTAL
A172: 010108 지붕및홈통공사 | B172: [내진 보강공사] | Q172: 010108
A173: 스텐선홈통 설치 | B173: 101.6*1.5mm | C173: M | D173: 4 | N173: 53422347006B2EDB5948642BD0964C | Q173: 010108 | R173: T | S173: F | T173: F | AU173: 01010853422347006B2EDB5948642BD0964C | AV173: 56
A174: 스텐슬리브 설치 | B174: 101.6*1.5mm | C174: M | D174: 4 | N174: 53422347006B2EDB5948642BD095A5 | Q174: 010108 | R174: T | S174: F | T174: F | AU174: 01010853422347006B2EDB5948642BD095A5 | AV174: 57
A195: [ 합 계 ] | N195: TOTAL
A196: 010109 금속및미장공사 | B196: [내진 보강공사] | Q196: 010109
A197: 와이어메시 바닥깔기 | B197: #8-150*150 | C197: M2 | D197: 25 | N197: 534233A8006842DD5755E222D5BE04 | Q197: 010109 | R197: T | S197: F | T197: F | AU197: 010109534233A8006842DD5755E222D5BE04 | AV197: 58
A198: 스테인리스재료분리대 | B198: 바닥, W50*H30*1.5t | C198: M | D198: 2 | N198: 534263E7006F5D1D5F052CA1F79BD1 | Q198: 010109 | R198: T | S198: F | T198: F | AU198: 010109534263E7006F5D1D5F052CA1F79BD1 | AV198: 59
A199: AL몰딩 설치 | B199: L형, 19*19*1.0mm | C199: M | D199: 3 | N199: 534263E9006A0FA6576657809063CD | Q199: 010109 | R199: T | S199: F | T199: F | AU199: 010109534263E9006A0FA6576657809063CD | AV199: 60
A200: 모르타르 바름 | B200: 내벽, 18mm, 3.6m 이하 | C200: M2 | D200: 1 | N200: 5342E3970068CA9D5DF40D4169F9D3 | Q200: 010109 | R200: T | S200: F | T200: F | AU200: 0101095342E3970068CA9D5DF40D4169F9D3 | AV200: 61
A201: 모르타르 바름 | B201: 외벽, 24mm | C201: M2 | D201: 12 | N201: 5342E3970068CA9D5DF09277CB7252 | Q201: 010109 | R201: T | S201: F | T201: F | AU201: 0101095342E3970068CA9D5DF09277CB7252 | AV201: 260
A219: [ 합 계 ] | N219: TOTAL
A220: 010110 창호및유리공사 | B220: [내진 보강공사] | Q220: 010110
A221: SSD - 1 [130*55*2.4t단열바,자동문포함] | B221: 3.800 x 2.100 = 7.980 | C221: 개소 | D221: 1 | N221: 534253FB0063B5825C6C5A7451C3A4 | Q221: 010110 | R221: T | S221: F | T221: F | AU221: 010110534253FB0063B5825C6C5A7451C3A4 | AV221: 62
A222: 창호주위 모르타르 충전 | C222: M | D222: 10 | N222: 534253FF00690210505725A0BBD0D6 | Q222: 010110 | R222: T | S222: F | T222: F | AU222: 010110534253FF00690210505725A0BBD0D6 | AV222: 63
A223: 투명로이복층유리 26mm(5+16A+5) | B223: 투명+아르곤가스+투명로이 | C223: M2 | D223: 4 | N223: 546933BD00631C9E5A266C18B9D950E70CE661 | Q223: 010110 | R223: F | S223: F | T223: T | AU223: 010110546933BD00631C9E5A266C18B9D950E70CE661 | AV223: 64
A224: 창호유리설치 / 복층유리 | B224: 유리두께 28mm 이하 | C224: M2 | D224: 4 | N224: 534253F10063558554AFF31A0F22C5 | Q224: 010110 | R224: T | S224: F | T224: F | AU224: 010110534253F10063558554AFF31A0F22C5 | AV224: 65
A225: 복층유리주위 코킹 | B225: 5*5, 실리콘 | C225: M | D225: 12 | N225: 534253F10063C8E5513FE0AEEE4037 | Q225: 010110 | R225: T | S225: F | T225: F | AU225: 010110534253F10063C8E5513FE0AEEE4037 | AV225: 66
A226: 수밀코킹(실리콘) | B226: 사각, 10mm, 창호주위 | C226: M | D226: 10 | N226: 534213580062018151CD932203B210 | Q226: 010110 | R226: T | S226: F | T226: F | AU226: 010110534213580062018151CD932203B210 | AV226: 69
A243: [ 합 계 ] | N243: TOTAL
A244: 010111 도 장 공 사 | B244: [내진 보강공사] | Q244: 010111
A245: 바탕만들기+수성페인트 롤러칠+퍼티 및 연마 | B245: 내부, 2회 1급, con'c·mortar면 | C245: M2 | D245: 1 | N245: 534273C5006D35FB5D28E25F2BD89F | Q245: 010111 | R245: T | S245: F | T245: F | AU245: 010111534273C5006D35FB5D28E25F2BD89F | AV245: 67
A246: 바탕만들기+수성페인트 롤러칠(재료비 미포함) | B246: 내부, 2회 1급, 석고보드면 줄퍼티 | C246: M2 | D246: 4 | N246: 534273C5006D35FB5D28E258FA1B4D | Q246: 010111 | R246: T | S246: F | T246: F | AU246: 010111534273C5006D35FB5D28E258FA1B4D | AV246: 68
A247: 수성페인트 롤러칠+퍼티 및 연마 | B247: 외부, 2회 1급, 기존도장면 | C247: M2 | D247: 291 | N247: 534273C5006D35FB5D28E8E665EB8D | Q247: 010111 | R247: T | S247: F | T247: F | AU247: 010111534273C5006D35FB5D28E8E665EB8D | AV247: 70
A248: 바탕만들기+수성페인트 롤러칠+퍼티 및 연마 | B248: 외부, 2회 1급, con'c·mortar면 | C248: M2 | D248: 12 | N248: 534273C5006D35FB5D28E8E665EB8C | Q248: 010111 | R248: T | S248: F | T248: F | AU248: 010111534273C5006D35FB5D28E8E665EB8C | AV248: 261
...
