Workbook
Name ____LP1: '[1]부하(성남)'!#REF!
Name ____LPB1: [2]부하계산서!#REF!
Name ____LPK1: [2]부하계산서!#REF!
Name ____LU1: '[1]부하(성남)'!#REF!
Name ____LU2: '[1]부하(성남)'!#REF!
Name ____LV01: '[1]부하(성남)'!#REF!
Name ____UP1: [2]부하계산서!#REF!
Name ____UP2: [2]부하계산서!#REF!
Name __LP1: '[1]부하(성남)'!#REF!
Name __LPB1: [2]부하계산서!#REF!
Name __LPK1: [2]부하계산서!#REF!
Name __LU1: '[1]부하(성남)'!#REF!
Name __LU2: '[1]부하(성남)'!#REF!
Name __LV01: '[1]부하(성남)'!#REF!
Name __UP1: [2]부하계산서!#REF!
Name __UP2: [2]부하계산서!#REF!
Name _10_3_0Crite: #REF!
Name _10_3_0Criteria: #REF!
Name _11_3_0Crite: #REF!
Name _12_3_0Crite: #REF!
Name _13_3__Crite: #REF!
Name _16_3__Criteria: #REF!
Name _18G_0Extr: #REF!
Name _19G_0Extr: #REF!
Name _21_3_0Criteria: #REF!
Name _21G_0Extract: #REF!
Name _22_3_0Criteria: #REF!
Name _22G_0Extract: #REF!
Name _23_3_0Criteria: #REF!
Name _24_3_0Criteria: #REF!
Name _24G__Extr: #REF!
Name _25_3__Crite: #REF!
Name _26_3__Criteria: #REF!
Name _26G__Extract: #REF!
Name _27G_0Extr: #REF!
Name _28G_0Extr: #REF!
Name _29G_0Extr: #REF!
Name _30G_0Extr: #REF!
Name _31G_0Extract: #REF!
Name _32G_0Extract: #REF!
Name _33G_0Extract: #REF!
Name _34G_0Extract: #REF!
Name _35G__Extr: #REF!
Name _36G__Extract: #REF!
Name _4_3_0Crite: #REF!
Name _5_3_0Crite: #REF!
Name _9_3_0Crite: #REF!
Name _9_3_0Criteria: #REF!
Name _LP1: '[2]부하(성남)'!#REF!
Name _LPB1: [4]부하계산서!#REF!
Name _LPK1: [4]부하계산서!#REF!
Name _LU1: '[2]부하(성남)'!#REF!
Name _LU2: '[2]부하(성남)'!#REF!
Name _LV01: '[2]부하(성남)'!#REF!
Name _UP1: [4]부하계산서!#REF!
Name _UP2: [4]부하계산서!#REF!
Name \f: #N/A
Name \h: #N/A
Name \r: #N/A
Name A: #REF!

Sheet 표지
C1: 2022년도
C2: 공 사 명 : | F2: 와룡로(서대구KTX~이현아울렛)외 1개소 포장보수공사
T4: 대구공공시설관리공단
B5: 설 계 서 용 지(갑 지)
B6: 팀장 | E6: 심사자 | H6: 설계자 | R6: 2022년 | S6: 11월 | T6: 설 계
C8: =C1 -> 2022년도
C10: =C2 -> 공 사 명 : | F10: =F2 -> 와룡로(서대구KTX~이현아울렛)외 1개소 포장보수공사
C12: 공사개요 : | E12: B= 3.3~9.2m, L=1,142m
E13: 절삭 후 덧씌우기 (T=5cm) , A=1,580㎡, 야간
E14: 절삭 후 덧씌우기 (T=7cm) , A=7,074㎡, 야간
C20: 총공사비 : | F20: 0 | J20: ="(금"&NUMBERSTRING(F20,1)&"원)" -> (금영원)
F22: 도급예정액 : | I22: 0
F23: 관급자재대 : | I23: 0

Sheet 위치도
A1: 位 置 圖
A2: 위 치 | C2: 와룡로(서대구ktx~이현아울렛)
A13: 位 置 圖
A14: 위 치 | C14: 봉덕로(영대병원네거리 동편)
A25: 位 置 圖
A26: 위 치
A37: 位 置 圖
A38: 위 치

Sheet 공사원가계산서
B1: 원가계산서
B3: 비 목 | E3: 구분 | F3: 금 액 | G3: 요율 | H3: 산 출 근 거
B4: 순 공 사 원 가 | C4: 재 료 비 | D4: 직접재료비 | E4: 1
D5: 간접재료비 | E5: 2
D6: 작업설.부산물등(△) | E6: 3
D7: 소 계 | E7: A | H7: ( 1 + 2 + 3 )
C8: 노 무 비 | D8: 직접노무비 | E8: 4
D9: 간접노무비 | E9: 5 | G9: 0.137 | H9: ( 4 ) × 0.137
D10: 소계 | E10: B | H10: ( 4 + 5 )
C11: 경 비 | D11: 산출경비 | E11: 6
D12: 산재보험료 | E12: 7 | G12: 0.037 | H12: ( B ) × 0.037
D13: 고용보험료 | E13: 8 | G13: 0.0101 | H13: ( B ) × 0.0101
D14: 건강보험료 | E14: 9
D15: 연금보험료 | E15: 10
D16: 노인장기요양보험료 | E16: 11
D17: 퇴직공제부금비 | E17: 12 | F17: 553370 | G17: 0.023 | H17: ( 4 ) × 0.023
D18: 건설기계대여금지급보증서발급액 | E18: 13 | G18: 0.0068 | H18: ( A + 4 + 6 ) × 0.0068
D19: 산업안전보건관리비 | E19: 14 | F19: 806645 | G19: 0.0185 | H19: ( A + 4 ) × 0.0185 × 1.2
D20: 환 경 보 전 비 | E20: 15 | G20: 0.008 | H20: ( A + 4 + 6 ) × 0.008
D21: 공사이행보증수수료 | E21: 16
D22: 하도급대금지급보증수수료 | E22: 17
D23: 기타경비 | E23: 18 | G23: 0.084 | H23: ( A + B ) × 0.084
D24: 소 계 | E24: C | H24: ( 6+7+8+9+10+11+12+13+14+15+16+17+18 )
B25: 순공사원가 | E25: D | H25: ( A + B + C )
B26: 일반관리비 | E26: E | G26: 6% | H26: ( D ) × 0.06
B27: 이윤 | E27: F | G27: 0.15 | H27: ( B + C + E ) × 0.15
B28: 총원가 | E28: G | H28: ( D + E + F )
B29: 부가가치세 | E29: H | G29: 10% | H29: ( G ) × 0.1
B30: 도급액 | E30: I | H30: ( G + H )
B31: 관급자재대 | E31: J
B32: 폐기물처리비 | E32: K
B33: 총공사비 | E33: L | H33: ( I + J + K )

Sheet 내역서총괄표
B1: 내역서총괄표
B3: 공종 | C3: 품 명 | D3: 규 격 | E3: 수 량 | F3: 단위 | G3: 합 계 | H3: 노무비 | I3: 재료비 | J3: 경 비 | K3: 비 고
B4: 1 | C4: 포장공
B5: 1) | C5: 절삭 후 덧씌우기
B6: 2) | C6: 아스콘포장
B7: 3) | C7: 절삭
B8: 2) | C8: 포장마감
B9: 2 | C9: 부대공
B10: 1) | C10: 장비운반
B11: 2) | C11: 교통통제 및 안전처리
B12: 3 | C12: 품질시험비 | G12: 0 | H12: 0 | I12: 0 | J12: 0
C14: 순공사비 계
C15: 간접노무비 | E15: 13.7 | F15: %
C16: 산재보험료 | E16: 3.7 | F16: %
C17: 고용보험료 | E17: 1.01 | F17: %
C18: 퇴직공제부금비 | E18: 2.3 | F18: % | G18: 553370
C19: 건설기계대여대금지급보증서발급액 | E19: 0.68 | F19: %
C20: 산업안전보건관리비 | E20: 1.85 | F20: % | G20: 806645
C21: 환경보전비 | E21: 0.8 | F21: %
C22: 기타경비 | E22: 8.4 | F22: %
C23: 순공사원가
C24: 일반관리비 | E24: 6 | F24: %
C25: 이윤 | E25: 15 | F25: %
C26: 총원가
C27: 부가가치세 | E27: 10 | F27: %
C28: 관급자재대
C29: 총공사비

Sheet 아스팔트 혼합물 시험비
B1: 아스팔트혼합물 시험비 산출내역
A2: 1 | B2: 시험종목 | C2: 인력(시간) | I2: 공공요금 | L2: 시험빈도 | M2: 산 출 내 역 | R2: 대구광역시 건설시험실 수수료 | S2: 대구광역시 건설시험실 수수료 (부가세포함) | T2: 적용 시험빈도 | U2: 적용금액 | V2: 비 고 ※대구광역시 건설공사설계지침에 따라 건설시험실 수수료 우선적용
A3: 1 | C3: 시험관리 | E3: 시험 | I3: 전기 | J3: 상수도 | K3: 가스 | M3: 재료비 | N3: 노무비 | O3: 장비손료 | P3: 공공요금 | Q3: 계
A4: 1 | C4: 특급 | D4: 중급 | E4: 특급 | F4: 고급 | G4: 중급 | H4: 초급 | I4: Kwh | J4: m3 | K4: m3
A5: 1 | B5: 표층용/안정도 | C5: 0.1 | D5: 0.2 | E5: 0.5 | G5: 1.7 | H5: 1.4 | I5: 15.3 | J5: 0.3 | M5: =INT((N5+P5)*0.01) -> #REF! | N5: =INT(E5*#REF!/8+'아스팔트 혼합물 시험비'!F5*#REF!/8+'아스팔트 혼합물 시험비'!G5*#REF!/8+'아스팔트 혼합물 시험비'!H5*#REF!/8) -> #REF! | O5: =INT(N5*0.01) -> #REF! | P5: =INT(I5*'품질시험 공공요금'!$H$7+'아스팔트 혼합물 시험비'!J5*'품질시험 공공요금'!$H$17) -> 1493 | Q5: =M5+N5+O5+P5 -> #REF! | R5: =S5/1.1 -> 76909.091 | S5: 84600 | T5: 1 | U5: =T5*(IF(R5=0,Q5,IF(R5>0,R5))) -> 76909.091
A6: 1 | B6: 표층용/흐름값 | C6: 0.1 | D6: 0.2 | E6: 0.5 | G6: 1.7 | H6: 1.4 | I6: 15.3 | J6: 0.3 | M6: =INT((N6+P6)*0.01) -> #REF! | N6: =INT(E6*#REF!/8+'아스팔트 혼합물 시험비'!F6*#REF!/8+'아스팔트 혼합물 시험비'!G6*#REF!/8+'아스팔트 혼합물 시험비'!H6*#REF!/8) -> #REF! | O6: =INT(N6*0.01) -> #REF! | P6: =INT(I6*'품질시험 공공요금'!$H$7+'아스팔트 혼합물 시험비'!J6*'품질시험 공공요금'!$H$17) -> 1493 | Q6: =M6+N6+O6+P6 -> #REF! | R6: =S6/1.1 -> 77272.727 | S6: 85000 | T6: 1 | U6: =T6*(IF(R6=0,Q6,IF(R6>0,R6))) -> 77272.727
A7: 1 | B7: 표층용/공극률 | C7: 0.1 | D7: 0.2 | E7: 0.8 | G7: 1.3 | H7: 1.7 | I7: 43.5 | J7: 0.5 | M7: =INT((N7+P7)*0.01) -> #REF! | N7: =INT(E7*#REF!/8+'아스팔트 혼합물 시험비'!F7*#REF!/8+'아스팔트 혼합물 시험비'!G7*#REF!/8+'아스팔트 혼합물 시험비'!H7*#REF!/8) -> #REF! | O7: =INT(N7*0.01) -> #REF! | P7: =INT(I7*'품질시험 공공요금'!$H$7+'아스팔트 혼합물 시험비'!J7*'품질시험 공공요금'!$H$17) -> 3964 | Q7: =M7+N7+O7+P7 -> #REF! | R7: =S7/1.1 -> 0 | T7: 1 | U7: =T7*(IF(R7=0,Q7,IF(R7>0,R7))) -> #REF!
A8: 1 | B8: 표층용/포화도 | C8: 0.1 | D8: 0.2 | E8: 0.8 | G8: 1.3 | H8: 1.7 | I8: 35 | J8: 0.7 | M8: =INT((N8+P8)*0.01) -> #REF! | N8: =INT(E8*#REF!/8+'아스팔트 혼합물 시험비'!F8*#REF!/8+'아스팔트 혼합물 시험비'!G8*#REF!/8+'아스팔트 혼합물 시험비'!H8*#REF!/8) -> #REF! | O8: =INT(N8*0.01) -> #REF! | P8: =INT(I8*'품질시험 공공요금'!$H$7+'아스팔트 혼합물 시험비'!J8*'품질시험 공공요금'!$H$17) -> 3426 | Q8: =M8+N8+O8+P8 -> #REF! | R8: =S8/1.1 -> 0 | T8: 1 | U8: =T8*(IF(R8=0,Q8,IF(R8>0,R8))) -> #REF!
A9: 1 | B9: 표층용/간극율 | C9: 0.1 | D9: 0.2 | E9: 0.8 | G9: 1.3 | H9: 1.7 | I9: 35 | J9: 0.7 | M9: =INT((N9+P9)*0.01) -> #REF! | N9: =INT(E9*#REF!/8+'아스팔트 혼합물 시험비'!F9*#REF!/8+'아스팔트 혼합물 시험비'!G9*#REF!/8+'아스팔트 혼합물 시험비'!H9*#REF!/8) -> #REF! | O9: =INT(N9*0.01) -> #REF! | P9: =INT(I9*'품질시험 공공요금'!$H$7+'아스팔트 혼합물 시험비'!J9*'품질시험 공공요금'!$H$17) -> 3426 | Q9: =M9+N9+O9+P9 -> #REF! | R9: =S9/1.1 -> 0 | T9: 1 | U9: =T9*(IF(R9=0,Q9,IF(R9>0,R9))) -> #REF!
A10: 1 | B10: 표층용/인장강도비(TSR) | C10: 0.1 | D10: 0.2 | E10: 1.8 | G10: 4.1 | H10: 2.8 | I10: 86.7 | J10: 0.5 | M10: =INT((N10+P10)*0.01) -> #REF! | N10: =INT(E10*#REF!/8+'아스팔트 혼합물 시험비'!F10*#REF!/8+'아스팔트 혼합물 시험비'!G10*#REF!/8+'아스팔트 혼합물 시험비'!H10*#REF!/8) -> #REF! | O10: =INT(N10*0.01) -> #REF! | P10: =INT(I10*'품질시험 공공요금'!$H$7+'아스팔트 혼합물 시험비'!J10*'품질시험 공공요금'!$H$17) -> 7506 | Q10: =M10+N10+O10+P10 -> #REF! | R10: =S10/1.1 -> 0 | T10: 1 | U10: =T10*(IF(R10=0,Q10,IF(R10>0,R10))) -> #REF!
A11: 1 | B11: 표층용/동적안정도 | C11: 0.1 | D11: 0.4 | E11: 1.6 | F11: 3.9 | G11: 2 | H11: 3.3 | I11: 47.5 | M11: =INT((N11+P11)*0.01) -> #REF! | N11: =INT(E11*#REF!/8+'아스팔트 혼합물 시험비'!F11*#REF!/8+'아스팔트 혼합물 시험비'!G11*#REF!/8+'아스팔트 혼합물 시험비'!H11*#REF!/8) -> #REF! | O11: =INT(N11*0.01) -> #REF! | P11: =INT(I11*'품질시험 공공요금'!$H$7+'아스팔트 혼합물 시험비'!J11*'품질시험 공공요금'!$H$17) -> 3895 | Q11: =M11+N11+O11+P11 -> #REF! | R11: =S11/1.1 -> 0 | T11: 1 | U11: =T11*(IF(R11=0,Q11,IF(R11>0,R11))) -> #REF! | V11: -순환골재 사용시
A12: 1 | B12: 기층용·중간층용·표층용/ 간접인장강도 | C12: 0.1 | D12: 0.2 | G12: 1.1 | H12: 0.5 | I12: 15.2 | M12: =INT((N12+P12)*0.01) -> #REF! | N12: =INT(E12*#REF!/8+'아스팔트 혼합물 시험비'!F12*#REF!/8+'아스팔트 혼합물 시험비'!G12*#REF!/8+'아스팔트 혼합물 시험비'!H12*#REF!/8) -> #REF! | O12: =INT(N12*0.01) -> #REF! | P12: =INT(I12*'품질시험 공공요금'!$H$7+'아스팔트 혼합물 시험비'!J12*'품질시험 공공요금'!$H$17) -> 1246 | Q12: =M12+N12+O12+P12 -> #REF! | R12: =S12/1.1 -> 0 | T12: 1 | U12: =T12*(IF(R12=0,Q12,IF(R12>0,R12))) -> #REF!
A13: 1 | B13: 기층용·중간층용·표층용/ 터프니스 | C13: 0.1 | D13: 0.2 | G13: 0.2 | H13: 0.3 | I13: 1 | M13: =INT((N13+P13)*0.01) -> #REF! | N13: =INT(E13*#REF!/8+'아스팔트 혼합물 시험비'!F13*#REF!/8+'아스팔트 혼합물 시험비'!G13*#REF!/8+'아스팔트 혼합물 시험비'!H13*#REF!/8) -> #REF! | O13: =INT(N13*0.01) -> #REF! | P13: =INT(I13*'품질시험 공공요금'!$H$7+'아스팔트 혼합물 시험비'!J13*'품질시험 공공요금'!$H$17) -> 82 | Q13: =M13+N13+O13+P13 -> #REF! | R13: =S13/1.1 -> 0 | T13: 1 | U13: =T13*(IF(R13=0,Q13,IF(R13>0,R13))) -> #REF!
A14: 1 | B14: 역청함유량 | C14: 0.1 | D14: 0.2 | E14: 1.1 | G14: 1.8 | H14: 2 | I14: 79.3 | J14: 0.5 | L14: ·1일 1회이상 | M14: =INT((N14+P14)*0.01) -> #REF! | N14: =INT(E14*#REF!/8+'아스팔트 혼합물 시험비'!F14*#REF!/8+'아스팔트 혼합물 시험비'!G14*#REF!/8+'아스팔트 혼합물 시험비'!H14*#REF!/8) -> #REF! | O14: =INT(N14*0.01) -> #REF! | P14: =INT(I14*'품질시험 공공요금'!$H$7+'아스팔트 혼합물 시험비'!J14*'품질시험 공공요금'!$H$17) -> 6900 | Q14: =M14+N14+O14+P14 -> #REF! | R14: =S14/1.1 -> 111636.36 | S14: 122800 | T14: 1 | U14: =T14*(IF(R14=0,Q14,IF(R14>0,R14))) -> 111636.36 | V14: -실공사일수(소수점반올림)
A15: 1 | B15: 체가름 | C15: 0.1 | D15: 0.2 | E15: 1.1 | G15: 2.5 | H15: 2.2 | I15: 9.3 | J15: 0.1 | M15: =INT((N15+P15)*0.01) -> #REF! | N15: =INT(E15*#REF!/8+'아스팔트 혼합물 시험비'!F15*#REF!/8+'아스팔트 혼합물 시험비'!G15*#REF!/8+'아스팔트 혼합물 시험비'!H15*#REF!/8) -> #REF! | O15: =INT(N15*0.01) -> #REF! | P15: =INT(I15*'품질시험 공공요금'!$H$7+'아스팔트 혼합물 시험비'!J15*'품질시험 공공요금'!$H$17) -> 842 | Q15: =M15+N15+O15+P15 -> #REF! | R15: =S15/1.1 -> 114545.45 | S15: 126000 | T15: 1 | U15: =T15*(IF(R15=0,Q15,IF(R15>0,R15))) -> 114545.45
A16: 1 | B16: 밀도 | C16: 0.1 | D16: 0.2 | F16: 1.6 | H16: 1 | I16: 60.4 | J16: 0.1 | L16: ·1일 1회이상 ·포설 1층당 30아르마다 | M16: =INT((N16+P16)*0.01) -> #REF! | N16: =INT(E16*#REF!/8+'아스팔트 혼합물 시험비'!F16*#REF!/8+'아스팔트 혼합물 시험비'!G16*#REF!/8+'아스팔트 혼합물 시험비'!H16*#REF!/8) -> #REF! | O16: =INT(N16*0.01) -> #REF! | P16: =INT(I16*'품질시험 공공요금'!$H$7+'아스팔트 혼합물 시험비'!J16*'품질시험 공공요금'!$H$17) -> 5032 | Q16: =M16+N16+O16+P16 -> #REF! | R16: =S16/1.1 -> 18454.545 | S16: 20300 | T16: 1 | U16: =T16*(IF(R16=0,Q16,IF(R16>0,R16))) -> 18454.545 | V16: -실공사일수(소수점반올림) -조건 중 작은빈도 적용
A17: 1 | B17: 합 계 | U17: =SUM(U5:U16) -> #REF!

Sheet 코아밀도 시험비
A1: 코아밀도 시험비 산출내역
A4: 1. 시설안전관리사업소 아스콘 시험(2022. 2. 1. 기준가)
B5: ○ 코아채취 : 1조(3개소)
C6: ＊ 코아채취 : | K6: 356700 | Q6: 원
C7: ＊ 밀 도 : | K7: 29000 | Q7: 원
C8: 소 계 : | K8: =SUM(K6:P7) -> 385700 | Q8: 원
B10: ○ 구역화물(왕복) | AJ10: (단위 : 원)
B11: 운 반 거 리 | H11: 10km | N11: 20km | T11: 30km | Z11: 40km | AF11: 50km | AL11: 비고
B12: 경 비(원) | H12: 56400 | N12: 60800 | T12: 65100 | Z12: 68900 | AF12: 72500
B14: 운 반 거 리 | H14: 60km | N14: 70km | T14: 80km | Z14: 90km | AF14: 100km | AL14: 비고
B15: 경 비(원) | H15: 76300 | N15: 79900 | T15: 83700 | Z15: 87300 | AF15: 91100
B17: ○ COST (아스팔트혼합물+코아채취+구역화물) | AJ17: (단위 : 원)
B18: 구 분 | F18: 구 역 화 물 | AJ18: 비 고
F19: =H11 -> 10km | L19: =N11 -> 20km | R19: =T11 -> 30km | X19: =Z11 -> 40km | AD19: =AF11 -> 50km
B20: 경 비 | F20: =$K$8+H12 -> 442100 | L20: =$K$8+N12 -> 446500 | R20: =$K$8+T12 -> 450800 | X20: =$K$8+Z12 -> 454600 | AD20: =$K$8+AF12 -> 458200 | AJ20: VAT 포함
B21: 적 용 | F21: =INT(F20/1.1) -> 401909 | L21: =INT(L20/1.1) -> 405909 | R21: =INT(R20/1.1) -> 409818 | X21: =INT(X20/1.1) -> 413272 | AD21: =INT(AD20/1.1) -> 416545 | AJ21: VAT 미포함
B23: 구 분 | F23: 구 역 화 물 | AJ23: 비 고
F24: =H14 -> 60km | L24: =N14 -> 70km | R24: =T14 -> 80km | X24: =Z14 -> 90km | AD24: =AF14 -> 100km
B25: 경 비 | F25: =$K$8+H15 -> 462000 | L25: =$K$8+N15 -> 465600 | R25: =$K$8+T15 -> 469400 | X25: =$K$8+Z15 -> 473000 | AD25: =$K$8+AF15 -> 476800 | AJ25: VAT 포함
B26: 적 용 | F26: =INT(F25/1.1) -> 420000 | L26: =INT(L25/1.1) -> 423272 | R26: =INT(R25/1.1) -> 426727 | X26: =INT(X25/1.1) -> 430000 | AD26: =INT(AD25/1.1) -> 433454 | AJ26: VAT 미포함

Sheet 품질시험 공공요금
B1: 공공요금
B3: 전력요금 단가 | H3: 적용일자 : 2021.01.01
B4: 일반용전력(갑)
B5: 구분 | D5: 기본요금 | E5: 전력량요금(원)
E6: 여름철 (6~8월) | F6: 봄·가을철 (3~5,9~10월) | G6: 겨울철 (11~2월) | H6: 평균단가
B7: 저압전력 | D7: 6160 | E7: 100.7 | F7: 60.2 | G7: 87.3 | H7: =INT(SUM(E7:G7)/3) -> 82
B8: 고압A | C8: 선택I | D8: 7170 | E8: 110.9 | F8: 66.9 | G8: 98.6 | H8: =INT(SUM(E8:G8)/3) -> 92
C9: 선택II | D9: 8230 | E9: 106.9 | F9: 62.6 | G9: 93.3 | H9: =INT(SUM(E9:G9)/3) -> 87
B10: 고압B | C10: 선택I | D10: 7170 | E10: 108.8 | F10: 65.8 | G10: 95.6 | H10: =INT(SUM(E10:G10)/3) -> 90
C11: 선택II | D11: 8230 | E11: 103.5 | F11: 60.5 | G11: 90.3 | H11: =INT(SUM(E11:G11)/3) -> 84
B14: 상수도요금 단가 | E14: 하수도요금 단가 | H14: 적용일자 : 2017.12
B15: 업종별 | C15: 사용수량(㎥) | D15: 금액(원) | E15: 업종별 | F15: 사용수량(㎥) | G15: 금액(원) | H15: 평균단가
B16: 가정용 | D16: 550 | E16: 가정용 | G16: 490 | H16: =INT(SUM(D16+G16)/2) -> 520
B17: 일반용 | C17: 1~100 | D17: 980 | E17: 일반용 | F17: 1~100 | G17: 610 | H17: =INT(SUM(D17+G17)/2) -> 795
C18: 101이상 | D18: 1120 | F18: 101이상 | G18: 1630 | H18: =INT(SUM(D18+G18)/2) -> 1375
B19: 욕탕용 | C19: 1~500 | D19: 760 | E19: 욕탕용 | F19: 1~500 | G19: 490 | H19: =INT(SUM(D19+G19)/2) -> 625
C20: 501이상 | D20: 1010 | F20: 501이상 | G20: 680 | H20: =INT(SUM(D20+G20)/2) -> 845
