Workbook

Sheet 원가계산서
B1: 공 사 원 가 계 산 서
B2: 공사명 : 2023년 신천둔치 공용화장실 기초 설치공사
B3: 비 목 | E3: 금 액 | F3: 구 성 비 | G3: 비 고
A4: A1 | B4: 순 공 사 원 가 | C4: 재 료 비 | D4: 직 접 재 료 비 | E4: =TRUNC(공종별집계표!F5, 0) -> 0
A5: A2 | D5: 간 접 재 료 비 | E5: 0
A6: A3 | D6: 작업설, 부산물(△) | E6: 0
A7: AS | D7: [ 소 계 ] | E7: =TRUNC(E4+E5-E6, 0) -> 0
A8: B1 | C8: 노 무 비 | D8: 직 접 노 무 비 | E8: =TRUNC(공종별집계표!H5, 0) -> 0
A9: B2 | D9: 간 접 노 무 비 | E9: =TRUNC(E8*0.122, 0) -> 0 | F9: 직접노무비 * 12.2%
A10: BS | D10: [ 소 계 ] | E10: =TRUNC(E8+E9, 0) -> 0
A11: C2 | C11: 경 비 | D11: 경 비 | E11: =TRUNC(공종별집계표!J5, 0) -> 0
A12: C4 | D12: 산 재 보 험 료 | E12: =TRUNC(E10*0.037, 0) -> 0 | F12: 노무비 * 3.7% | G12: 모든공사
A13: C5 | D13: 고 용 보 험 료 | E13: =TRUNC(E10*0.0101, 0) -> 0 | F13: 노무비 * 1.01% | G13: 모든공사
A14: CA | D14: 산업안전보건관리비 | E14: =TRUNC((E7+E8+(0/1.1))*0.0293, 0) -> 0 | F14: (재료비+직노+관급자재비) * 2.93% | G14: 2천만원이상
A15: CG | D15: 기 타 경 비 | E15: =TRUNC((E7+E10)*0.058, 0) -> 0 | F15: (재료비+노무비) * 5.8%
A16: CH | D16: 환 경 보 전 비 | E16: =TRUNC((E7+E8+E11)*0.005, 0) -> 0 | F16: (재료비+직노+경비) * 0.5%
A17: CL | D17: 건설기계대여금지급보증서발급수수료 | E17: =TRUNC((E7+E8+E11)*0.0032, 0) -> 0 | F17: (재료비+직노+경비) * 0.32%
A18: CS | D18: [ 소 계 ] | E18: =TRUNC(E11+E12+E13+E14+E15+E16+E17, 0) -> 0
A19: S1 | B19: 계 | E19: =TRUNC(E7+E10+E18, 0) -> 0
A20: D1 | B20: 일 반 관 리 비 | E20: =TRUNC(E19*0.06, 0) -> 0 | F20: 계 * 6%
A21: D2 | B21: 이 윤 | E21: =TRUNC((E10+E18+E20)*0.1475,0) -> 0 | F21: (노무비+경비+일반관리비) * 15%
A22: D4 | B22: 폐 기 물 처 리 | E22: =TRUNC(공종별집계표!T18+공종별집계표!T24, 0) -> 0
A23: D9 | B23: 공 급 가 액 | E23: =TRUNC(E19+E20+E21+E22, 0) -> 0
A24: DB | B24: 부 가 가 치 세 | E24: =TRUNC(E23*0.1, 0) -> 0 | F24: 공급가액 * 10%
A25: DH | B25: 도 급 액 | E25: =TRUNC(E23+E24, 0) -> 0
A26: S2 | B26: 총 공 사 비 | E26: =TRUNC(E25+0, 0) -> 0

Sheet 공종별집계표
A1: 공 종 별 집 계 표
A2: [ 2023년 신천둔치 공용화장실 기초 설치공사 ]
A3: 품 명 | B3: 규 격 | C3: 단위 | D3: 수량 | E3: 재 료 비 | G3: 노 무 비 | I3: 경 비 | K3: 합 계 | M3: 비 고 | N3: 공종코드 | O3: 변수 | P3: 상위공종 | Q3: 공종구분 | R3: 공종레벨 | S3: 공종소계 | T3: 원가계산서 연결금액
E4: 단 가 | F4: 금 액 | G4: 단 가 | H4: 금 액 | I4: 단 가 | J4: 금 액 | K4: 단 가 | L4: 금 액
A5: 01 신천둔치 화장실 설치공사 | D5: 1 | E5: =F6+F12+F19 -> 0 | F5: =E5*D5 -> 0 | G5: =H6+H12+H19 -> 0 | H5: =G5*D5 -> 0 | I5: =J6+J12+J19 -> 0 | J5: =I5*D5 -> 0 | K5: =E5+G5+I5 -> 0 | L5: =F5+H5+J5 -> 0 | N5: 01 | R5: 1
A6: 0101 용두교 북편 | D6: 1 | E6: =F7+F8+F9+F10+F11 -> 0 | F6: =E6*D6 -> 0 | G6: =H7+H8+H9+H10+H11 -> 0 | H6: =G6*D6 -> 0 | I6: =J7+J8+J9+J10+J11 -> 0 | J6: =I6*D6 -> 0 | K6: =E6+G6+I6 -> 0 | L6: =F6+H6+J6 -> 0 | N6: 0101 | P6: 01 | R6: 2
A7: 010101 가 설 공 사 | D7: 1 | E7: =공종별내역서!F29 -> 0 | F7: =E7*D7 -> 0 | G7: =공종별내역서!H29 -> 0 | H7: =G7*D7 -> 0 | I7: =공종별내역서!J29 -> 0 | J7: =I7*D7 -> 0 | K7: =E7+G7+I7 -> 0 | L7: =F7+H7+J7 -> 0 | N7: 010101 | P7: 0101 | R7: 3
A8: 010102 토 및 지정공사 | D8: 1 | E8: =공종별내역서!F55 -> 0 | F8: =E8*D8 -> 0 | G8: =공종별내역서!H55 -> 0 | H8: =G8*D8 -> 0 | I8: =공종별내역서!J55 -> 0 | J8: =I8*D8 -> 0 | K8: =E8+G8+I8 -> 0 | L8: =F8+H8+J8 -> 0 | N8: 010102 | P8: 0101 | R8: 3
A9: 010103 철근콘크리트공사 | D9: 1 | E9: =공종별내역서!F82 -> 0 | F9: =E9*D9 -> 0 | G9: =공종별내역서!H82 -> 0 | H9: =G9*D9 -> 0 | I9: =공종별내역서!J82 -> 0 | J9: =I9*D9 -> 0 | K9: =E9+G9+I9 -> 0 | L9: =F9+H9+J9 -> 0 | N9: 010103 | P9: 0101 | R9: 3
A10: 010104 금 속 공 사 | D10: 1 | E10: =공종별내역서!F108 -> 0 | F10: =E10*D10 -> 0 | G10: =공종별내역서!H108 -> 0 | H10: =G10*D10 -> 0 | I10: =공종별내역서!J108 -> 0 | J10: =I10*D10 -> 0 | K10: =E10+G10+I10 -> 0 | L10: =F10+H10+J10 -> 0 | N10: 010104 | P10: 0101 | R10: 3
A11: 010106 운 반 비 | D11: 1 | E11: =공종별내역서!F134 -> 0 | F11: =E11*D11 -> 0 | G11: =공종별내역서!H134 -> 0 | H11: =G11*D11 -> 0 | I11: =공종별내역서!J134 -> 0 | J11: =I11*D11 -> 0 | K11: =E11+G11+I11 -> 0 | L11: =F11+H11+J11 -> 0 | N11: 010106 | P11: 0101 | R11: 3
A12: 0102 칠성교 북편 | D12: 1 | E12: =F13+F14+F15+F16+F17 -> 0 | F12: =E12*D12 -> 0 | G12: =H13+H14+H15+H16+H17 -> 0 | H12: =G12*D12 -> 0 | I12: =J13+J14+J15+J16+J17 -> 0 | J12: =I12*D12 -> 0 | K12: =E12+G12+I12 -> 0 | L12: =F12+H12+J12 -> 0 | N12: 0102 | P12: 01 | R12: 2
A13: 010201 가 설 공 사 | D13: 1 | E13: =공종별내역서!F160 -> 0 | F13: =E13*D13 -> 0 | G13: =공종별내역서!H160 -> 0 | H13: =G13*D13 -> 0 | I13: =공종별내역서!J160 -> 0 | J13: =I13*D13 -> 0 | K13: =E13+G13+I13 -> 0 | L13: =F13+H13+J13 -> 0 | N13: 010201 | P13: 0102 | R13: 3
A14: 010202 토 및 지정공사 | D14: 1 | E14: =공종별내역서!F186 -> 0 | F14: =E14*D14 -> 0 | G14: =공종별내역서!H186 -> 0 | H14: =G14*D14 -> 0 | I14: =공종별내역서!J186 -> 0 | J14: =I14*D14 -> 0 | K14: =E14+G14+I14 -> 0 | L14: =F14+H14+J14 -> 0 | N14: 010202 | P14: 0102 | R14: 3
A15: 010203 철근콘크리트공사 | D15: 1 | E15: =공종별내역서!F212 -> 0 | F15: =E15*D15 -> 0 | G15: =공종별내역서!H212 -> 0 | H15: =G15*D15 -> 0 | I15: =공종별내역서!J212 -> 0 | J15: =I15*D15 -> 0 | K15: =E15+G15+I15 -> 0 | L15: =F15+H15+J15 -> 0 | N15: 010203 | P15: 0102 | R15: 3
A16: 010204 부 대 공 사 | D16: 1 | E16: =공종별내역서!F238 -> 0 | F16: =E16*D16 -> 0 | G16: =공종별내역서!H238 -> 0 | H16: =G16*D16 -> 0 | I16: =공종별내역서!J238 -> 0 | J16: =I16*D16 -> 0 | K16: =E16+G16+I16 -> 0 | L16: =F16+H16+J16 -> 0 | N16: 010204 | P16: 0102 | R16: 3
A17: 010205 철 거 공 사 | D17: 1 | E17: =공종별내역서!F264 -> 0 | F17: =E17*D17 -> 0 | G17: =공종별내역서!H264 -> 0 | H17: =G17*D17 -> 0 | I17: =공종별내역서!J264 -> 0 | J17: =I17*D17 -> 0 | K17: =E17+G17+I17 -> 0 | L17: =F17+H17+J17 -> 0 | N17: 010205 | P17: 0102 | R17: 3
A18: 0103 건설폐기물처리비 | D18: 1 | E18: =공종별내역서!F290 -> 0 | F18: =E18*D18 -> 0 | G18: =공종별내역서!H290 -> 0 | H18: =G18*D18 -> 0 | I18: =공종별내역서!J290 -> 0 | J18: =I18*D18 -> 0 | K18: =E18+G18+I18 -> 0 | L18: =F18+H18+J18 -> 0 | N18: 0103 | Q18: 5 | R18: 2 | T18: =L18*1 -> 0
A19: 0104 희망교 북편 | D19: 1 | E19: =F20+F21+F22+F23 -> 0 | F19: =E19*D19 -> 0 | G19: =H20+H21+H22+H23 -> 0 | H19: =G19*D19 -> 0 | I19: =J20+J21+J22+J23 -> 0 | J19: =I19*D19 -> 0 | K19: =E19+G19+I19 -> 0 | L19: =F19+H19+J19 -> 0 | N19: 0104 | P19: 01 | R19: 2
A20: 010401 가 설 공 사 | D20: 1 | E20: =공종별내역서!F316 -> 0 | F20: =E20*D20 -> 0 | G20: =공종별내역서!H316 -> 0 | H20: =G20*D20 -> 0 | I20: =공종별내역서!J316 -> 0 | J20: =I20*D20 -> 0 | K20: =E20+G20+I20 -> 0 | L20: =F20+H20+J20 -> 0 | N20: 010401 | P20: 0104 | R20: 3
A21: 010402 토 및 지정공사 | D21: 1 | E21: =공종별내역서!F342 -> 0 | F21: =E21*D21 -> 0 | G21: =공종별내역서!H342 -> 0 | H21: =G21*D21 -> 0 | I21: =공종별내역서!J342 -> 0 | J21: =I21*D21 -> 0 | K21: =E21+G21+I21 -> 0 | L21: =F21+H21+J21 -> 0 | N21: 010402 | P21: 0104 | R21: 3
A22: 010403 철근콘크리트공사 | D22: 1 | E22: =공종별내역서!F368 -> 0 | F22: =E22*D22 -> 0 | G22: =공종별내역서!H368 -> 0 | H22: =G22*D22 -> 0 | I22: =공종별내역서!J368 -> 0 | J22: =I22*D22 -> 0 | K22: =E22+G22+I22 -> 0 | L22: =F22+H22+J22 -> 0 | N22: 010403 | P22: 0104 | R22: 3
A23: 010404 철 거 공 사 | D23: 1 | E23: =공종별내역서!F394 -> 0 | F23: =E23*D23 -> 0 | G23: =공종별내역서!H394 -> 0 | H23: =G23*D23 -> 0 | I23: =공종별내역서!J394 -> 0 | J23: =I23*D23 -> 0 | K23: =E23+G23+I23 -> 0 | L23: =F23+H23+J23 -> 0 | N23: 010404 | P23: 0104 | R23: 3
A24: 0105 건설폐기물처리비 | D24: 1 | E24: =공종별내역서!F420 -> 0 | F24: =E24*D24 -> 0 | G24: =공종별내역서!H420 -> 0 | H24: =G24*D24 -> 0 | I24: =공종별내역서!J420 -> 0 | J24: =I24*D24 -> 0 | K24: =E24+G24+I24 -> 0 | L24: =F24+H24+J24 -> 0 | N24: 0105 | Q24: 5 | R24: 2 | T24: =L24*1 -> 0
A25: [ 합 계 ] | F25: =F5 -> 0 | H25: =H5 -> 0 | J25: =J5 -> 0 | L25: =L5 -> 0

Sheet 공종별내역서
A1: [ 2023년 신천둔치 공용화장실 기초 설치공사 ]
A2: 품 명 | B2: 규 격 | C2: 단위 | D2: 수량 | E2: 재 료 비 | G2: 노 무 비 | I2: 경 비 | K2: 합 계 | M2: 비 고 | N2: 품목코드 | O2: 변수 | P2: 설정 | Q2: 공종코드 | R2: 일위 | S2: 단산 | T2: 자재 | U2: 손료적용 | V2: 손료저장 | W2: 적용율 | X2: JUK1 | Y2: JUK2 | Z2: JUK3 | AA2: JUK4 | AB2: JUK5 | AC2: JUK6 | AD2: JUK7 | AE2: JUK8 | AF2: JUK9 | AG2: JUK10 | AH2: JUK11 | AI2: JUK12 | AJ2: JUK13 | AK2: JUK14 | AL2: JUK15 | AM2: JUK16 | AN2: JUK17 | AO2: JUK18 | AP2: JUK19 | AQ2: JUK20 | AR2: 자재구분 | AS2: 공종구분 | AT2: 공종레벨 | AU2: 공종+자재 | AV2: 고유번호
E3: 단 가 | F3: 금 액 | G3: 단 가 | H3: 금 액 | I3: 단 가 | J3: 금 액 | K3: 단 가 | L3: 금 액
A4: 010101 가 설 공 사 | Q4: 010101
A5: 조립식가설울타리/E.G.I철판 | B5: H=2.4, 3개월 | C5: M | D5: 40 | N5: 5E7A249E22E6692E262B9204734B6E | Q5: 010101 | R5: T | S5: F | T5: F | AU5: 0101015E7A249E22E6692E262B9204734B6E | AV5: 68
A6: 건축물 현장정리 | B6: 철근콘크리트조, 철골·철근콘크리트조 | C6: M2 | D6: 81 | N6: 5E7A249B52A6F74D660BB4B45FAEF1 | Q6: 010101 | R6: T | S6: F | T6: F | AU6: 0101015E7A249B52A6F74D660BB4B45FAEF1 | AV6: 5
N7: 5E7A249B5296EA307693F6641A9B5C | Q7: 010101 | R7: T | S7: F | T7: F | AU7: 0101015E7A249B5296EA307693F6641A9B5C | AV7: 6
A29: [ 합 계 ] | N29: TOTAL
A30: 010102 토공사 | Q30: 010102
A31: 터파기/토사 | B31: 보통, 굴삭기 0.7m3 70%, 인력30% | C31: M3 | D31: 42 | N31: 5E55141D7246A367D6E30AC431BB4D | Q31: 010102 | R31: F | S31: T | T31: F | AU31: 0101025E55141D7246A367D6E30AC431BB4D | AV31: 95
A32: 토사 운반/단지외 10km | B32: 보통, 덤프 15ton+굴삭기 0.7m3(고르기 별도) | C32: M3 | D32: 36 | N32: 5E55141E12F68841B6500EC4B4D163 | Q32: 010102 | R32: F | S32: T | T32: F | AU32: 0101025E55141E12F68841B6500EC4B4D163 | AV32: 96
A33: 되메우기/토사, 두께 15cm | B33: 보통, 굴삭기 0.7m3+래머 80kg | C33: M3 | D33: 6 | N33: 5E551410B2F67A17D674D7E4B51E15 | Q33: 010102 | R33: F | S33: T | T33: F | AU33: 0101025E551410B2F67A17D674D7E4B51E15 | AV33: 97
A34: 수목/조경석철거 | C34: 식 | D34: 1
A55: [ 합 계 ] | N55: TOTAL
A56: 010103 철근콘크리트공사 | Q56: 010103
A57: 레미콘 | B57: 레미콘, 대구, 25-21-120 | C57: M3 | D57: 38 | N57: 595CA49152E6635AE6659034FC9080ED102019 | Q57: 010103 | R57: F | S57: F | T57: T | AU57: 010103595CA49152E6635AE6659034FC9080ED102019 | AV57: 13
A58: 레미콘 | B58: 레미콘, 대구, 25-18-120 | C58: M3 | D58: 5 | N58: 595CA49152E6635AE6659034FC9080ED102137 | Q58: 010103 | R58: F | S58: F | T58: T | AU58: 010103595CA49152E6635AE6659034FC9080ED102137 | AV58: 12
A59: 콘크리트 펌프차 타설(매트기초 등) | B59: 100m3 미만, 슬럼프 8~12cm, 양호 | C59: M3 | D59: 38 | N59: 5E7A742792B67A1376E60B04D91DB8 | Q59: 010103 | R59: F | S59: T | T59: F | AU59: 0101035E7A742792B67A1376E60B04D91DB8 | AV59: 70
A60: 콘크리트 펌프차 타설(무근, 진동기無) | B60: 100m3 미만, 슬럼프 8~12cm, 양호(매트기초 등) | C60: M3 | D60: 5 | N60: 5E7A74279286A6B0065C70941AC801 | Q60: 010103 | R60: F | S60: T | T60: F | AU60: 0101035E7A74279286A6B0065C70941AC801 | AV60: 69
A61: 철근콘크리트용봉강 | B61: 이형봉강(SD350/400), HD-13 | C61: TON | D61: 1.011 | N61: 595CA49152F6081D86A503444154E4D4E9E53B | Q61: 010103 | R61: F | S61: F | T61: T | AU61: 010103595CA49152F6081D86A503444154E4D4E9E53B | AV61: 11
A62: 철근 현장가공 및 현장조립 | B62: Type-Ⅰ | C62: TON | D62: 0.982 | N62: 5E7A742332E65D7316B437A416139A | Q62: 010103 | R62: T | S62: F | T62: F | AU62: 0101035E7A742332E65D7316B437A416139A | AV62: 16
A63: 합판거푸집 설치 및 해체 | B63: 보통 4회, 수직고 7m까지 | C63: M2 | D63: 50 | N63: 5E7A7420628630A1E6557D049CBCF8 | Q63: 010103 | R63: T | S63: F | T63: F | AU63: 0101035E7A7420628630A1E6557D049CBCF8 | AV63: 14
A64: 문양거푸집(판넬) | B64: 거푸집설치(합판,유로폼등)는 별도계상 | C64: M2 | D64: 34 | N64: 5E5504351216BB5216E665E43F2414 | Q64: 010103 | R64: T | S64: F | T64: F | AU64: 0101035E5504351216BB5216E665E43F2414 | AV64: 71
A65: 쇠흙손 마감 | C65: M2 | D65: 19 | N65: 5E7A743342B67E16C62C98C4E248AA | Q65: 010103 | R65: T | S65: F | T65: F | AU65: 0101035E7A743342B67E16C62C98C4E248AA | AV65: 72
A66: 칼라무늬 콘크리트 | C66: M2 | D66: 74 | N66: 595CA49152F600CC56399FA4249BD1307AD38E | Q66: 010103 | R66: F | S66: F | T66: T | AU66: 010103595CA49152F600CC56399FA4249BD1307AD38E | AV66: 73
A67: 기초 지정 | B67: 잡석지정 | C67: M3 | D67: 42 | N67: 5E55141142367AC54638E3444D89C9 | Q67: 010103 | R67: T | S67: F | T67: F | AU67: 0101035E55141142367AC54638E3444D89C9 | AV67: 19
A68: 쇄석자갈 | B68: 도착도 | C68: M3 | D68: 12.6
A69: 혼합골재 | B69: 도착도 | C69: M3 | D69: 46.2
A70: 철강설 | B70: 철강설, 고철, 작업설부산물 | C70: TON | D70: -0.029 | N70: 597F64FF325607F816E554B488D193BD4A232A | Q70: 010103 | R70: F | S70: F | T70: T | AU70: 010103597F64FF325607F816E554B488D193BD4A232A | AV70: 10
A82: [ 합 계 ] | N82: TOTAL
A83: 010104 금 속 공 사 | Q83: 010104
A84: 스테인리스핸드레일 | B84: D38.1+27.2*1.2t, H:850*@100 | C84: M | D84: 41 | N84: 5E7A946D72466AF5E6677674E942E5 | Q84: 010104 | R84: T | S84: F | T84: F | AU84: 0101045E7A946D72466AF5E6677674E942E5 | AV84: 74
A85: 핸드레일촉지판 - 인쇄+점자타공 | B85: AL 120*∮38 | C85: EA | D85: 12 | N85: 595CB4B74246F4FEB65FA2041F816890EC7EA8 | Q85: 010104 | R85: F | S85: F | T85: T | AU85: 010104595CB4B74246F4FEB65FA2041F816890EC7EA8 | AV85: 22
A86: 점자블럭 | B86: 300*300*6 | C86: EA | D86: 42 | N86: 595CB4B74246F4FEB65FA2041F816890E27B7E | Q86: 010104 | R86: F | S86: F | T86: T | AU86: 010104595CB4B74246F4FEB65FA2041F816890E27B7E | AV86: 21
A108: [ 합 계 ] | N108: TOTAL
A109: 010106 운 반 비 | Q109: 010106
A110: 운반비(트레일러 20ton+크레인 10ton) | B110: 철근, L:10km | C110: TON | D110: 1.011 | N110: 5E7B748CE2E62BC89613FB348FAFC8 | Q110: 010106 | R110: F | S110: T | T110: F | AU110: 0101065E7B748CE2E62BC89613FB348FAFC8 | AV110: 80
A134: [ 합 계 ] | N134: TOTAL
A135: 010201 가 설 공 사 | Q135: 010201
A136: 조립식가설울타리/E.G.I철판 | B136: H=2.4, 3개월 | C136: M | D136: 23 | N136: 5E7A249E22E6692E262B9204734B6E | Q136: 010201 | R136: T | S136: F | T136: F | AU136: 0102015E7A249E22E6692E262B9204734B6E | AV136: 82
A137: 건축물 현장정리 | B137: 철근콘크리트조, 철골·철근콘크리트조 | C137: M2 | D137: 28 | N137: 5E7A249B52A6F74D660BB4B45FAEF1 | Q137: 010201 | R137: T | S137: F | T137: F | AU137: 0102015E7A249B52A6F74D660BB4B45FAEF1 | AV137: 27
A160: [ 합 계 ] | N160: TOTAL
A161: 010202 토공사 | Q161: 010202
A162: 터파기/토사 | B162: 보통, 굴삭기 0.7m3 70%, 인력30% | C162: M3 | D162: 8 | N162: 5E55141D7246A367D6E30AC431BB4D | Q162: 010202 | R162: F | S162: T | T162: F | AU162: 0102025E55141D7246A367D6E30AC431BB4D | AV162: 29
A163: 토사 운반/단지외 10km | B163: 보통, 덤프 15ton+굴삭기 0.7m3(고르기 별도) | C163: M3 | D163: 8 | N163: 5E55141E12F68841B6500EC4B4D163 | Q163: 010202 | R163: F | S163: T | T163: F | AU163: 0102025E55141E12F68841B6500EC4B4D163 | AV163: 30
N164: 5E55141142367AC54638E3444D89C9 | Q164: 010202 | R164: T | S164: F | T164: F | AU164: 0102025E55141142367AC54638E3444D89C9 | AV164: 31
A186: [ 합 계 ] | N186: TOTAL
A187: 010203 철근콘크리트공사 | Q187: 010203
A188: 레미콘 | B188: 레미콘, 대구, 25-18-120 | C188: M3 | D188: 7 | N188: 595CA49152E6635AE6659034FC9080ED102137 | Q188: 010203 | R188: F | S188: F | T188: T | AU188: 010203595CA49152E6635AE6659034FC9080ED102137 | AV188: 33
A189: 콘크리트 펌프차 타설(무근, 진동기無) | B189: 100m3 미만, 슬럼프 8~12cm, 양호(매트기초 등) | C189: M3 | D189: 5 | N189: 5E7A74279286A6B0065C70941AC801 | Q189: 010203 | R189: F | S189: T | T189: F | AU189: 0102035E7A74279286A6B0065C70941AC801 | AV189: 83
A190: 방습필름 설치 - 바닥 | B190: 폴리에틸렌필름, 두께, 0.1mm, 1겹 | C190: M2 | D190: 33 | N190: 5E7AC4A7E2660B3966DF39A46C5A84 | Q190: 010203 | R190: T | S190: F | T190: F | AU190: 0102035E7AC4A7E2660B3966DF39A46C5A84 | AV190: 35
A191: 와이어메시 바닥깔기 | B191: #8-150*150 | C191: M2 | D191: 33 | N191: 5E7A946AA226B9D2F62A1304C8BD24 | Q191: 010203 | R191: T | S191: F | T191: F | AU191: 0102035E7A946AA226B9D2F62A1304C8BD24 | AV191: 37
A192: 기초 지정 | B192: 잡석지정 | C192: M3 | D192: 5
A193: 쇄석자갈 | B193: 도착도 | C193: M3 | D193: 1.5
A194: 혼합골재 | B194: 도착도 | C194: M3 | D194: 5.5
A212: [ 합 계 ] | N212: TOTAL
A213: 010204 부 대 공 사 | Q213: 010204
A214: 보도블럭포장 | B214: 재사용 | C214: M2 | D214: 16 | N214: 5E7AC4AD02C6788EF69EF984C7AE0B | Q214: 010204 | R214: T | S214: F | T214: F | AU214: 0102045E7AC4AD02C6788EF69EF984C7AE0B | AV214: 42
N215: 5E7B347142B6A875F668F924456924 | Q215: 010204 | R215: T | S215: F | T215: F | AU215: 0102045E7B347142B6A875F668F924456924 | AV215: 43
A238: [ 합 계 ] | N238: TOTAL
A239: 010205 철 거 공 사 | Q239: 010205
A240: 보도 블럭 철거 | C240: M2 | D240: 29 | N240: 5E7B240AD2060435B6DB52545D5A1D | Q240: 010205 | R240: T | S240: F | T240: F | AU240: 0102055E7B240AD2060435B6DB52545D5A1D | AV240: 39
A241: 콘크리트구조물 헐기(소형장비) | B241: 전기식, 철근 | C241: M3 | D241: 4 | N241: 5E7B240AD22637B006383F14DBC73F | Q241: 010205 | R241: T | S241: F | T241: F | AU241: 0102055E7B240AD22637B006383F14DBC73F | AV241: 40
A242: 건설폐재류 상차비 | C242: TON | D242: 7.617 | N242: 5E7A249B52A6F4F9265CF0F47AD0E5 | Q242: 010205 | R242: F | S242: F | T242: T | AU242: 0102055E7A249B52A6F4F9265CF0F47AD0E5 | AV242: 84
A264: [ 합 계 ] | N264: TOTAL
A265: 0103 건설폐기물처리비 | Q265: 0103
A266: 폐콘크리트 | B266: 이물질이 없는 순수한 폐콘크리트 | C266: TON | D266: 7.617 | N266: 5E7A249B52A6F4F816C100540D3E7E | Q266: 0103 | R266: F | S266: F | T266: T | AU266: 01035E7A249B52A6F4F816C100540D3E7E | AV266: 45
A267: 건설폐재류 운반비 | B267: 24톤 덤프트럭, 30km | C267: TON | D267: 7.617 | N267: 5E7A249B52A6F4F9265CF0F47BF9BD | Q267: 0103 | R267: F | S267: F | T267: T | AU267: 01035E7A249B52A6F4F9265CF0F47BF9BD | AV267: 46
A290: [ 합 계 ] | N290: TOTAL
A291: 010401 가 설 공 사 | Q291: 010401
A292: 조립식가설울타리/E.G.I철판 | B292: H=2.4, 3개월 | C292: M | D292: 27 | N292: 5E7A249E22E6692E262B9204734B6E | Q292: 010401 | R292: T | S292: F | T292: F | AU292: 0104015E7A249E22E6692E262B9204734B6E | AV292: 85
A293: 건축물 현장정리 | B293: 철근콘크리트조, 철골·철근콘크리트조 | C293: M2 | D293: 18 | N293: 5E7A249B52A6F74D660BB4B45FAEF1 | Q293: 010401 | R293: T | S293: F | T293: F | AU293: 0104015E7A249B52A6F74D660BB4B45FAEF1 | AV293: 50
A316: [ 합 계 ] | N316: TOTAL
A317: 010402 토공사 | Q317: 010402
A318: 터파기/토사 | B318: 보통, 굴삭기 0.7m3 70%, 인력30% | C318: M3 | D318: 11 | N318: 5E55141D7246A367D6E30AC431BB4D | Q318: 010402 | R318: F | S318: T | T318: F | AU318: 0104025E55141D7246A367D6E30AC431BB4D | AV318: 52
A319: 토사 운반/단지외 10km | B319: 보통, 덤프 15ton+굴삭기 0.7m3(고르기 별도) | C319: M3 | D319: 11 | N319: 5E55141E12F68841B6500EC4B4D163 | Q319: 010402 | R319: F | S319: T | T319: F | AU319: 0104025E55141E12F68841B6500EC4B4D163 | AV319: 53
N320: 5E55141142367AC54638E3444D89C9 | Q320: 010402 | R320: T | S320: F | T320: F | AU320: 0104025E55141142367AC54638E3444D89C9 | AV320: 54
A342: [ 합 계 ] | N342: TOTAL
A343: 010403 철근콘크리트공사 | Q343: 010403
A344: 레미콘 | B344: 레미콘, 대구, 25-18-120 | C344: M3 | D344: 5 | N344: 595CA49152E6635AE6659034FC9080ED102137 | Q344: 010403 | R344: F | S344: F | T344: T | AU344: 010403595CA49152E6635AE6659034FC9080ED102137 | AV344: 56
A345: 콘크리트 펌프차 타설(무근, 진동기無) | B345: 100m3 미만, 슬럼프 8~12cm, 양호(매트기초 등) | C345: M3 | D345: 5 | N345: 5E7A74279286A6B0065C70941AC801 | Q345: 010403 | R345: F | S345: T | T345: F | AU345: 0104035E7A74279286A6B0065C70941AC801 | AV345: 89
A346: 방습필름 설치 - 바닥 | B346: 폴리에틸렌필름, 두께, 0.1mm, 1겹 | C346: M2 | D346: 21 | N346: 5E7AC4A7E2660B3966DF39A46C5A84 | Q346: 010403 | R346: T | S346: F | T346: F | AU346: 0104035E7AC4A7E2660B3966DF39A46C5A84 | AV346: 58
A347: 와이어메시 바닥깔기 | B347: #8-150*150 | C347: M2 | D347: 21 | N347: 5E7A946AA226B9D2F62A1304C8BD24 | Q347: 010403 | R347: T | S347: F | T347: F | AU347: 0104035E7A946AA226B9D2F62A1304C8BD24 | AV347: 60
A348: 화강석 경계석 | B348: 200*200 (몰탈T=100) | C348: M | D348: 20 | N348: 5E7AC4AD02C67B42A61EB0C440E92B | Q348: 010403 | R348: T | S348: F | T348: F | AU348: 0104035E7AC4AD02C67B42A61EB0C440E92B | AV348: 64
A349: 기초 지정 | B349: 잡석지정 | C349: M3 | D349: 4
A350: 쇄석자갈 | B350: 도착도 | C350: M3 | D350: 1.2
A351: 혼합골재 | B351: 도착도 | C351: M3 | D351: 4.4
A368: [ 합 계 ] | N368: TOTAL
A369: 010404 철 거 공 사 | Q369: 010404
A370: 콘크리트구조물 헐기(소형장비) | B370: 전기식, 철근 | C370: M3 | D370: 5 | N370: 5E7B240AD22637B006383F14DBC73F | Q370: 010404 | R370: T | S370: F | T370: F | AU370: 0104045E7B240AD22637B006383F14DBC73F | AV370: 62
A371: 건설폐재류 상차비 | C371: TON | D371: 10.157 | N371: 5E7A249B52A6F4F9265CF0F47AD0E5 | Q371: 010404 | R371: F | S371: F | T371: T | AU371: 0104045E7A249B52A6F4F9265CF0F47AD0E5 | AV371: 91
A394: [ 합 계 ] | N394: TOTAL
A395: 0105 건설폐기물처리비 | Q395: 0105
A396: 폐콘크리트 | B396: 이물질이 없는 순수한 폐콘크리트 | C396: TON | D396: 10.157 | N396: 5E7A249B52A6F4F816C100540D3E7E | Q396: 0105 | R396: F | S396: F | T396: T | AU396: 01055E7A249B52A6F4F816C100540D3E7E | AV396: 66
A397: 건설폐재류 운반비 | B397: 24톤 덤프트럭, 30km | C397: TON | D397: 10.157 | N397: 5E7A249B52A6F4F9265CF0F47BF9BD | Q397: 0105 | R397: F | S397: F | T397: T | AU397: 01055E7A249B52A6F4F9265CF0F47BF9BD | AV397: 67
A420: [ 합 계 ] | N420: TOTAL
